Workbook
Name B0: 'Données environnement'!$E$21
Name Fosse_non_couvertePré_stockage_lisier_sous_caillebotis: 'OAD coût CO2 épargné'!$BJ$51:$BJ$53
Name Pré_stockage_lisier_sous_caillebotis: 'OAD coût CO2 épargné'!$BJ$51:$BJ$53
Name Raclage_à_plat_quotidien: 'OAD coût CO2 épargné'!$BJ$52:$BJ$53

Sheet OAD coût CO2 épargné
B1: Coût de l'épargne des émissions directes de GES(*) en élevage
B2: par une adaptation des pratiques de gestion des déjections animales
D5: Nature des productions animales sur le site d'élevage | J5: V 1.0 | BD5: ZONE A MASQUER
D7: Gestion des déjections CONDUITES STANDARD | G7: Emissions t Eq. CO2/an | J7: Gestion des déjections CONDUITES ALTERNATIVES | M7: Suggestion paramètres économiques | BI7: A conserver ci-dessous pour les menus déroulants
C8: Catégorie d'animal | D8: en bâtiment | E8: Animaux présents ou places | G8: Conduite standard | H8: Conduites alternatives | J8: En bâtiment (menus déroulants hors situations uniques) | K8: Mode de gestion/valorisation des effluents en sortie de bâtiment | M8: Méthanisation psychrophile + chaudière | BD8: Qté de déjection (en t/an) | BE8: MO/MB | BF8: BMP | BG8: Production énergie (kWh/an) | BI8: Menus déroulants
B9: BOVINS | C9: Vaches laitières | D9: Logette lisier raclage 6 à 8 fois/j | G9: ='Calcul simpl bovin'!AV12/1000*'OAD coût CO2 épargné'!E9 -> 0 | H9: =IF(K9="Métha. psychrophile + chaudière", 'Calcul simpl bovin'!AV13/1000*'OAD coût CO2 épargné'!E9, IF(K9="Métha. mésophile + cogé.", 'Calcul simpl bovin'!AV14/1000*'OAD coût CO2 épargné'!E9, "")) -> 0 | J9: Logette raclage > 12 fois/j | K9: Métha. psychrophile + chaudière | M9: Investissement | N9: =-0.0002*(BD28)^2+8.7*BD28+67875 -> 112992.11 | O9: € | BD9: =0.06*365*E9 -> 0 | BE9: 0.078 | BF9: 234 | BG9: =BD9*BE9*BF9*9.95*'Données Production '!$B$30 -> 0 | BI9: BOVINS | BJ9: Catégorie | BK9: Bâtiment | BL9: Extérieur | BM9: Code
C10: Vaches laitières | D10: Logette fumier raclé | G10: ='Calcul simpl bovin'!AV15/1000*'OAD coût CO2 épargné'!E10 -> 0 | H10: =IF(K10="Métha. mésophile + cogé.", 'Calcul simpl bovin'!AV16/1000*'OAD coût CO2 épargné'!E10, IF(K10="Méthanisation collective", 'Calcul simpl bovin'!AV17/1000*'OAD coût CO2 épargné'!E10, "")) -> 0 | K10: Méthanisation collective | M10: Fonctionnement | N10: =0.125*BD28+2250 -> 3002.325 | O10: €/an | BE10: 0.144 | BF10: 273 | BG10: =BD10*BE10*BF10*9.95*'Données Production '!$B$30 -> 0 | BJ10: VL | BK10: Logette lisier raclage 6 à 8 fois/j | BL10: Fosse non couverte | BM10: VL1
C11: Vaches laitières | D11: Litière accumulé (1 curage/3 sem.) | G11: ='Calcul simpl bovin'!AV18/1000*'OAD coût CO2 épargné'!E11 -> 0 | H11: ='Calcul simpl bovin'!AV19/1000*'OAD coût CO2 épargné'!E11 -> 0 | J11: Litière accumulée (1 curage/semaine) | K11: Méthanisation collective | M11: Méthanisation mésophile + cogénération | BD11: =0.037*365*E11 -> 0 | BE11: 0.212 | BF11: 151 | BG11: =BD11*BE11*BF11*9.95*'Données Production '!$B$30 -> 0 | BJ11: VL | BK11: Logette lisier raclage > 12 fois/j | BL11: Métha. psychrophile + chaudière | BM11: VL2
C12: Génisses | D12: Logette lisier raclage 6 à 8 fois/j | G12: ='Calcul simpl bovin'!AV25/1000*'OAD coût CO2 épargné'!E12 -> 0 | H12: =IF(K12="Métha. psychrophile + chaudière", 'Calcul simpl bovin'!AV26/1000*'OAD coût CO2 épargné'!E12, IF(K12="Métha. mésophile + cogé.", 'Calcul simpl bovin'!AV27/1000*'OAD coût CO2 épargné'!E12, "")) -> 0 | J12: Logette lisier raclage > 12 fois/j | K12: Métha. mésophile + cogé. | M12: Puissance installée | N12: =BG29/8000*N16/100 -> 27.064672 | O12: kWe | BD12: =0.06*0.75*365*E12 -> 0 | BE12: 0.251 | BF12: 234 | BG12: =BD12*BE12*BF12*9.95*'Données Production '!$B$30 -> 0 | BJ12: VL | BK12: Logette lisier raclage > 12 fois/j | BL12: Métha. mésophile + cogé. | BM12: VL3
C13: Génisses | D13: Logette fumier raclé | G13: ='Calcul simpl bovin'!AV28/1000*'OAD coût CO2 épargné'!E13 -> 0 | H13: =IF(K13="Métha. mésophile + cogé.", 'Calcul simpl bovin'!AV29/1000*'OAD coût CO2 épargné'!E13, IF(K13="Méthanisation collective", 'Calcul simpl bovin'!AV30/1000*'OAD coût CO2 épargné'!E13, "")) -> 0 | J13: Logette fumier raclée | K13: Méthanisation collective | M13: Investissement | N13: =(0.7319*N12^2-156.72*N12+16957)*N12 -> 358648.55 | O13: € | BD13: =0.046*0.75*365*E13 -> 0 | BE13: 0.251 | BF13: 273 | BG13: =BD13*BE13*BF13*9.95*'Données Production '!$B$30 -> 0 | BJ13: VL | BK13: Logette fumier raclée | BL13: fumière | BM13: VL4
C14: Génisses | D14: Litière accumulé (1 curage/3 à 6 mois) | G14: ='Calcul simpl bovin'!AV31/1000*'OAD coût CO2 épargné'!E14 -> 0 | H14: ='Calcul simpl bovin'!AV32/1000*'OAD coût CO2 épargné'!E14 -> 0 | J14: Litière accumulée (1 curage/semaine) | K14: Méthanisation collective | M14: Fonctionnement | N14: =BG29*N16/100*0.11 -> 23816.912 | O14: €/an | BF14: 163 | BG14: =BD14*BE14*BF14*9.95*'Données Production '!$B$30 -> 0 | BJ14: VL | BK14: Logette fumier raclée | BL14: Métha. mésophile + cogé. | BM14: VL5
C15: Vaches allaitantes | D15: Litière accumulé (1 curage/3 à 6 mois) | G15: ='Calcul simpl bovin'!AV20/1000*'OAD coût CO2 épargné'!E15 -> 0 | H15: ='Calcul simpl bovin'!AV21/1000*'OAD coût CO2 épargné'!E15 -> 0 | M15: Valorisation kWh produit/épargné | N15: 21 | O15: ct€/kWh | BD15: =0.037*0.8*365*E15 -> 0 | BE15: 0.208 | BF15: 189 | BG15: =BD15*BE15*BF15*9.95*'Données Production '!$B$30 -> 0 | BJ15: VL | BK15: Logette fumier raclée | BL15: Méthanisation collective | BM15: VL6
C16: Taurillons | D16: Litière accumulé (1 curage/3 à 6 mois) | G16: ='Calcul simpl bovin'!AV33/1000*'OAD coût CO2 épargné'!E16 -> 0 | H16: ='Calcul simpl bovin'!AV34/1000*'OAD coût CO2 épargné'!E16 -> 0 | M16: Rendement cogénérateur | N16: 33 | O16: % | BD16: =0.037*0.7*365*E16 -> 0 | BE16: 0.217 | BF16: 264 | BG16: =BD16*BE16*BF16*9.95*'Données Production '!$B$30 -> 0 | BJ16: VL | BK16: Litière accumulée (1 curage/3 sem.) | BL16: fumière/au champs | BM16: VL7
C17: Veaux de boucherie | D17: Lisier préfosse | G17: ='Calcul simpl bovin'!AV22/1000*'OAD coût CO2 épargné'!E17 -> 0 | H17: =IF(K17="Métha. psychrophile + chaudière", 'Calcul simpl bovin'!AV23/1000*'OAD coût CO2 épargné'!E17, IF(K17="Métha. mésophile + cogé.", 'Calcul simpl bovin'!AV24/1000*'OAD coût CO2 épargné'!E17, "")) -> 0 | J17: Pompage quotidien | K17: Métha. mésophile + cogé. | M17: Recettes ou épargne | N17: =BG29*N16/100*N15/100 -> 45468.649 | O17: €/an | BD17: =0.001*365*E17 -> 0 | BE17: 0.66 | BF17: 463 | BG17: =BD17*BE17*BF17*9.95*'Données Production '!$B$30 -> 0 | BJ17: VL | BK17: Litière accumulée (1 curage/sem.) | BL17: Méthanisation collective | BM17: VL8
M18: Compostage fumiers volailles | BJ18: Génisses | BK18: Logette lisier raclage 6 à 8 fois/j | BL18: Fosse non couverte | BM18: G1
B19: PORCINS | C19: Porcs charcutiers | D19: Lisier stocké en préfosse | E19: 2500 | G19: =' Calcul simpl porc'!AN8/1000*E19 -> 859.27371 | H19: =IF(J19="Pré_stockage_lisier_sous_caillebotis",IF(K19="Fosse non couverte", ' Calcul simpl porc'!AN8/1000*'OAD coût CO2 épargné'!E19, 0),0)+IF(J19="Pré_stockage_lisier_sous_caillebotis",IF(K19="Métha. psychrophile + chaudière", ' Calcul simpl porc'!AN9/1000*'OAD coût CO2 épargné'!E19, 0),0)+IF(J19="Pré_stockage_lisier_sous_caillebotis",IF(K19="Métha. mésophile + cogé.", ' Calcul simpl porc'!AN10/1000*'OAD coût CO2 épargné'!E19, 0),0) + IF(J19="Raclage_à_plat_quotidien",IF(K19="Métha. mésophile + cogé.", ' Calcul simpl porc'!AN11/1000*'OAD coût CO2 épargné'!E19, 0),0)+ IF(J19="Raclage_à_plat_quotidien",IF(K19="Métha. psychrophile + chaudière", ' Calcul simpl porc'!AN12/1000*'OAD coût CO2 épargné'!E19, 0),0) -> 269.36296 | J19: Raclage_à_plat_quotidien | K19: Métha. psychrophile + chaudière | M19: Investissement | N19: =(E23/'Données Production '!H7+E24/'Données Production '!I7)*24.5 -> 0 | O19: € | BD19: =E19*0.48*2.9 -> 3480 | BE19: 0.0459 | BF19: 333 | BG19: =BD19*BE19*BF19*9.95*'Données Production '!$B$30 -> 529248.02 | BJ19: Génisses | BK19: Logette lisier raclage > 12 fois/j | BL19: Métha. psychrophile + chaudière | BM19: G2
C20: Truies | D20: Lisier stocké en préfosse | E20: 300 | G20: =' Calcul simpl porc'!AN13/1000*E20 -> 138.08558 | H20: =IF(J20="Pré_stockage_lisier_sous_caillebotis",IF(K20="Fosse non couverte", ' Calcul simpl porc'!AN13/1000*'OAD coût CO2 épargné'!E20, 0),0)+IF(J20="Pré_stockage_lisier_sous_caillebotis",IF(K20="Métha. psychrophile + chaudière", ' Calcul simpl porc'!AN14/1000*'OAD coût CO2 épargné'!E20, 0),0)+IF(J20="Pré_stockage_lisier_sous_caillebotis",IF(K20="Métha. mésophile + cogé.", ' Calcul simpl porc'!AN15/1000*'OAD coût CO2 épargné'!E20, 0),0) + IF(J20="Raclage_à_plat_quotidien",IF(K20="Métha. mésophile + cogé.", ' Calcul simpl porc'!AN17/1000*'OAD coût CO2 épargné'!E20, 0),0)+ IF(J20="Raclage_à_plat_quotidien",IF(K20="Métha. psychrophile + chaudière", ' Calcul simpl porc'!AN16/1000*'OAD coût CO2 épargné'!E20, 0),0) -> 110.71182 | J20: Pré_stockage_lisier_sous_caillebotis | K20: Métha. psychrophile + chaudière | BD20: =E20*6.2 -> 1860 | BE20: 0.0117 | BF20: 151 | BG20: =BD20*BE20*BF20*9.95*'Données Production '!$B$30 -> 32696.317 | BJ20: Génisses | BK20: Logette lisier raclage > 12 fois/j | BL20: Métha. mésophile + cogé. | BM20: G3
C21: Post-sevrage | D21: Lisier stocké en préfosse | E21: 1160 | G21: =' Calcul simpl porc'!AN18/1000*E21 -> 146.07287 | H21: =IF(J21="Pré_stockage_lisier_sous_caillebotis",IF(K21="Fosse non couverte", ' Calcul simpl porc'!AN18/1000*'OAD coût CO2 épargné'!E21, 0),0)+IF(J21="Pré_stockage_lisier_sous_caillebotis",IF(K21="Métha. psychrophile + chaudière", ' Calcul simpl porc'!AN19/1000*'OAD coût CO2 épargné'!E21, 0),0)+IF(J21="Pré_stockage_lisier_sous_caillebotis",IF(K21="Métha. mésophile + cogé.", ' Calcul simpl porc'!AN20/1000*'OAD coût CO2 épargné'!E21, 0),0) + IF(J21="Raclage_à_plat_quotidien",IF(K21="Métha. mésophile + cogé.", ' Calcul simpl porc'!AN22/1000*'OAD coût CO2 épargné'!E21, 0),0)+ IF(J21="Raclage_à_plat_quotidien",IF(K21="Métha. psychrophile + chaudière", ' Calcul simpl porc'!AN21/1000*'OAD coût CO2 épargné'!E21, 0),0) -> 91.78977 | J21: Pré_stockage_lisier_sous_caillebotis | K21: Métha. psychrophile + chaudière | M21: Paramètres économiques à retenir | BD21: =E21*6.5*0.09 -> 678.6 | BE21: 0.049 | BF21: 389 | BG21: =BD21*BE21*BF21*9.95*'Données Production '!$B$30 -> 128701.21 | BJ21: Génisses | BK21: Logette fumier raclée | BL21: fumière | BM21: G4
M22: Coûts étape de méthanisation et valorisation du biogaz | BJ22: Génisses | BK22: Logette fumier raclée | BL22: Métha. mésophile + cogé. | BM22: G5
B23: VOLAILLES | C23: Poulets de chair | D23: Fumier accumulé | G23: ='Calcul simpl volaille'!BD11/1000*'OAD coût CO2 épargné'!E23 -> 0 | H23: =IF(K23="Compostage", 'Calcul simpl volaille'!BD12/1000*'OAD coût CO2 épargné'!E23, IF(K23="Méthanisation collective", 'Calcul simpl volaille'!BD13/1000*'OAD coût CO2 épargné'!E23, "")) -> 0 | J23: Fumier accumulé | K23: Compostage | M23: Investissement | N23: 113000 | O23: € | BD23: =0.385*7.1*E23/21.3 -> 0 | BE23: 0.518 | BF23: 316 | BG23: =BD23*BE23*BF23*9.95*'Données Production '!$B$30 -> 0 | BJ23: Génisses | BK23: Logette fumier raclée | BL23: Méthanisation collective | BM23: G6
C24: Canards PAG | D24: Fumier accumulé | G24: ='Calcul simpl volaille'!BD14/1000*'OAD coût CO2 épargné'!E24 -> 0 | H24: =IF(K24="Compostage", 'Calcul simpl volaille'!BD15/1000*'OAD coût CO2 épargné'!E24, IF(K24="Méthanisation collective", 'Calcul simpl volaille'!BD16/1000*'OAD coût CO2 épargné'!E24, "")) -> 0 | K24: Compostage | M24: Taux de subvention | N24: 40 | O24: % | BD24: =E24*0.02*'Données Production '!I8 -> 0 | BE24: 0.247 | BF24: 245 | BG24: =BD24*BE24*BF24*9.95*'Données Production '!$B$30 -> 0 | BJ24: Génisses | BK24: Litière accumulée (1 curage/3 à 6 mois) | BL24: fumière/au champs | BM24: G7
C25: Canards au gavage | D25: Lisier stocké en préfosse | G25: ='Calcul simpl volaille'!BD9/1000*'OAD coût CO2 épargné'!E25 -> 0 | H25: ='Calcul simpl volaille'!BD10/1000*'OAD coût CO2 épargné'!E25 -> 0 | J25: Raclage quotidien | K25: Métha. psychrophile + chaudière | M25: Fonctionnement | N25: 3000 | O25: €/an | BD25: =0.0265*E25*'Données Production '!J8 -> 0 | BE25: 0.0611 | BF25: 380 | BG25: =BD25*BE25*BF25*9.95*'Données Production '!$B$30 -> 0 | BJ25: Génisses | BK25: Litière accumulée (1 curage/sem.) | BL25: Méthanisation collective | BM25: G8
C26: Canard à rôtir | D26: Lisier stocké en préfosse | G26: ='Calcul simpl volaille'!BD7/1000*'OAD coût CO2 épargné'!E26 -> 0 | H26: ='Calcul simpl volaille'!BD8/1000*'OAD coût CO2 épargné'!E26 -> 0 | M26: Recettes ou épargne | N26: 10000 | O26: €/an | BD26: =(0.0172+0.009)*E26*'Données Production '!K8 -> 0 | BE26: 0.0884 | BF26: 400 | BG26: =BD26*BE26*BF26*9.95*'Données Production '!$B$30 -> 0 | BJ26: Vache All. | BK26: Litière accumulée (1 curage/3 à 6 mois) | BL26: fumière/au champs | BM26: VA1
M27: Surcoût d'investissement raclage à plat bâtiment porc | BJ27: Vache All. | BK27: Litière accumulée (1 curage/sem.) | BL27: Méthanisation collective | BM27: VA2
D28: RESULTATS | M28: Engraissement | N28: 60 | O28: €/place | BD28: =SUM(BD9:BD26) -> 6018.6 | BE28: t/an | BG28: =SUM(BG9:BG26) -> 690645.55 | BH28: kWe brut produit | BJ28: Taurillon | BK28: Litière accumulée (1 curage/3 à 6 mois) | BL28: fumière/au champs | BM28: Ta1
M29: Gestante | O29: €/place | BG29: =BG28*(1-N40/100)*N42/100 -> 656113.27 | BH29: KWe collecté et vendu | BJ29: Taurillon | BK29: Litière accumulée (1 curage/sem.) | BL29: Méthanisation collective | BM29: Ta2
E30: TOTAUX | G30: =SUM(G9:G26) -> 1143.4322 | H30: =SUM(H9:H26)+(G30-SUM(H9:H26))*(1-N42/100) -> 471.86455 | J30: t Eq. CO2/an | M30: Post-sevrage | O30: €/place | BJ30: Veau bouch. | BK30: Lisier préfosse | BL30: Fosse non couverte | BM30: VB1
E31: Différence | H31: =(H30-G30)/G30*100 -> -58.732615 | J31: % | M31: Total raclage | N31: =E19*N28+E20*N29+E21*N30 -> 150000 | O31: € | BJ31: Veau bouch. | BK31: Pompage quotidien | BL31: Métha. psychrophile + chaudière | BM31: VB2
E32: Estimation coût à la t Eq. CO2 épargné | H32: =(-PMT(N37/100,N36,(N23*(1-N24/100)+N31+N33))+N25-N26+N34)/(G30-H30) -> 20.2438 | J32: €/t Eq. CO2 | M32: Autres coûts | BJ32: Veau bouch. | BK32: Pompage quotidien | BL32: Métha. mésophile + cogé. | BM32: VB3
M33: Investissement | O33: €
B34: (*) Emissions directes de GES: Gaz à Effet de Serre issues des fermentations entériques et des déjections animales, émissions de CH4 et N2O traduites en équivalent CO2 | M34: Fonctionnement | O34: €/an | BI34: VOLAILLES | BJ34: Catégorie | BK34: Bâtiment | BL34: Extérieur | BM34: Code
B35: Version 1.0 - Projet ABILE2 (Améliorer le Bilan Environnemental d'une Exploitation par la méthanisation des déjections animales - Impact des pratiques d'élevage) | M35: Indicateurs financiers | BJ35: Canard PAG | BK35: Fumier accumulé | BL35: fumière/au champs | BM35: CPAG1
B36: Etude menée avec le soutien financier du Casdar. La responsabilité du ministère chargé de l'agriculture ne saurait être engagée. | M36: Durée d'amortissement | N36: 12 | O36: ans | BJ36: Canard PAG | BK36: Fumier accumulé | BL36: Compostage | BM36: CPAG2
M37: taux d'emprunt | N37: 2 | O37: % | BJ37: Canard PAG | BK37: Fumier accumulé | BL37: Méthanisation collective | BM37: CPAG3
BJ38: Volaille chair | BK38: Fumier accumulé | BL38: fumière/au champs | BM38: VC1
M39: Paramètres techniques à retenir | BJ39: Volaille chair | BK39: Fumier accumulé | BL39: Compostage | BM39: VC2
M40: Fuites biogaz lors de la méthanisation | N40: 5 | O40: % | BJ40: Volaille chair | BK40: Fumier accumulé | BL40: Méthanisation collective | BM40: VC3
M41: Taux de couverture métha. psychrophile | N41: 90 | O41: % | BJ41: Canard gavage | BK41: Lisier préfosse | BL41: Fosse non couverte | BM41: CG1
M42: Taux de combustion du biogaz collectable | N42: 100 | O42: % | BJ42: Canard gavage | BK42: Raclage quotidien | BL42: Méthanisation psy + chaudière | BM42: CG2
M43: Taux d'expression BMP métha. psychrophile | N43: 29 | O43: % | BJ43: Canard à rôtir | BK43: Lisier préfosse | BL43: Fosse non couverte | BM43: CR1
...

Sheet Calcul simpl volaille
B1: Volaille | C1: Conduite d'élevage | P1: Stockage/ Traitement | AI1: Valorisation du biométhane | AS1: Epandage
D4: Matière excrétée en kg/animal/an dans le bâtiment | H4: Emissions kg/place/an batiment (et stockage pour N2O et CH4 pour les effluents bruts) | L4: Bilan entrée (scénario méthanisation) ou fin de stockage (autres scénarios) | Q4: Emissions au stockage kg/animal/an | V4: Bilan "Entrée effluents" | Z4: Emissions due au processus de méthanisation kg/animal/an | AE4: Due au transport des effluents kg | AF4: Production brute gaz lors de la méthanisation | AJ4: Emissions lors de la valorisation du biométhane en kg/animal/an | AO4: Bilan de matière sortie de traitement | AS4: Emissions au stockage en kg/animal/an | AW4: Emissions épandage du digestat kg/animal/an | BA4: Equivalent CO2 (en kg/emplacement/an)
R5: (uniquement effluents bruts) | AW5: R1 | AX5: R2 | AY5: R3 | BA5: Issu | BB5: issu | BC5: issu | BD5: Soit Eq.
D6: MO | E6: N | F6: BMP m3/kg de SV | G6: TAN | H6: N2O | I6: CH4 | J6: NH3 | K6: CO2 | L6: MO | M6: N | N6: BMP m3/kg de SV | O6: TAN | Q6: N2O | R6: CH4 | S6: NH3 | T6: CO2 | V6: MO | W6: BMP m3 de CH4/kg de SV | X6: N stocké | Y6: TAN | Z6: N2O | AA6: CH4 | AB6: NH3 | AC6: CO2 | AD6: eqCO2 | AE6: eq CO2 | AF6: biométhane m3/animal/an | AG6: CO2 m3/animal/an | AH6: Biogaz m3/animal/an | AJ6: N2O | AK6: CH4 | AL6: NH3 | AM6: CO2 | AN6: eqCO2 | AO6: MO kg/animal/an | AP6: BMP m3/kg de SV | AQ6: N stocké | AR6: TAN | AS6: N2O | AT6: CH4 | AU6: NH3 | AV6: CO2 | AW6: NH3 | AX6: NH3 | AY6: NH3 | BA6: CH4 | BB6: N2O dir | BC6: N2O ind | BD6: CO2
A7: CR 1 - Pas de couverture - Pas de racleur - Pas de métha | B7: Production canards à rôtir | C7: Fosse sous caillebotis | D7: ='Données environnement'!E$119*'Données Production '!K$5*'Données Production '!K$8 -> 4.865536 | E7: ='Données environnement'!E$125*'Données Production '!K$5*'Données Production '!K$8/365 -> 0.097450082 | F7: ='Données environnement'!E$153 -> 0.4 | G7: ='Données environnement'!E$130*'Données Production '!K$5*'Données Production '!K$8/365 -> 0.068215058 | H7: ='Données environnement'!E$181*'Calcul simpl volaille'!E7*'Données environnement'!$J$36 -> 0.00030599326 | I7: ='Données environnement'!E$169*'Données Production '!K$5*'Données Production '!K$8/365 -> 0.18005416 | J7: ='Données environnement'!$E$135*'Calcul simpl volaille'!G7*'Données environnement'!$J$31 -> 0.019809653 | K7: =I7/'Données environnement'!$E$96*'Données environnement'!$E$97/'Données environnement'!J$28*'Données environnement'!J$29 -> 0.33502615 | L7: =D7-(I7+K7) -> 4.3504557 | M7: =E7-(H7/'Données environnement'!J$36 + J7/'Données environnement'!J$31) -> 0.080883568 | N7: =F7 -> 0.4 | O7: ='Données environnement'!$E$140*'Données Production '!$K$5*'Données Production '!$K$8/365 -> 0.053889895 | P7: Fosse extérieure non couverte | S7: ='Données environnement'!E145*'Calcul simpl volaille'!O7*'Données environnement'!$J$31 -> 0.015649626 | T7: =R7/'Données environnement'!$E$96*'Données environnement'!$E$97 -> 0 | U7: Pas de valorisation | V7: =L7-(R7/'Données environnement'!J$33 + 'Calcul simpl volaille'!T7/'Données environnement'!J$32)*'Données environnement'!J$37 - R7/'Données environnement'!J$34 - 'Calcul simpl volaille'!T7/'Données environnement'!J$35 -> 4.3504557 | W7: =N7 -> 0.4 | X7: =M7-(Q7/'Données environnement'!J$36 + S7/'Données environnement'!J$31) -> 0.067949993 | Y7: =O7-S7/'Données environnement'!J$31 -> 0.040956321 | AI7: Pas de valorisation | AO7: =V7-(AA7 + 'Calcul simpl volaille'!AC7)*'Données environnement'!J$37 -> 4.3504557 | AP7: =N7 -> 0.4 | AQ7: =X7-Z7/'Données environnement'!J$36-'Calcul simpl volaille'!AB7/'Données environnement'!J$31 -> 0.067949993 | AR7: =Y7-AB7/'Données environnement'!J$31 -> 0.040956321 | AU7: =AR7*0.24*'Données environnement'!$J$31 -> 0.011893715 | AV7: =AT7/'Données environnement'!J$28/'Données environnement'!E$96*'Données environnement'!E$97*'Données environnement'!J$29 -> 0 | AW7: =$AQ7*'Données environnement'!BC$251*'Données environnement'!J$31 -> 0.016443898 | AX7: =(AR7-AU7/'Données environnement'!$J$31)*0.54*0.525*'Données environnement'!J$31 -> 0.010677583 | AY7: =AQ7*'Données environnement'!BC$253*'Données environnement'!J$31 -> 0.0041109746 | BA7: =(I7+R7+AA7+AK7+AT7)*'Données environnement'!$J$12 -> 4.8974731 | BB7: =(H7+Q7+Z7+AJ7+AS7)*'Données environnement'!$J$14 -> 0.083536159 | BC7: =(J7+S7+AB7+AL7+AU7+AX7)*14/17*'Données environnement'!$J$15*44/28*'Données environnement'!$J$14 -> 0.20501861 | BD7: =BA7+BB7+BC7 -> 5.1860279
A8: CR 2 - Racleur + métha psychro + chaudière | D8: ='Données environnement'!E$119*'Données Production '!K$5*'Données Production '!K$8 -> 4.865536 | E8: ='Données environnement'!E$125*'Données Production '!K$5*'Données Production '!K$8/365 -> 0.097450082 | F8: ='Données environnement'!E$153 -> 0.4 | G8: ='Données environnement'!E$130*'Données Production '!K$5*'Données Production '!K$8/365 -> 0.068215058 | H8: =0.35*'Données environnement'!E$181*'Calcul simpl volaille'!E8*'Données environnement'!$J$36 -> 0.00010709764 | I8: =0.021*'Données Production '!K$5*'Données Production '!K$8/365 -> 0.013734575 | J8: =J7*'Données environnement'!D$173 -> 0.013866757 | K8: =I8/'Données environnement'!$E$96*'Données environnement'!$E$97/'Données environnement'!J$28*'Données environnement'!J$29 -> 0.025555877 | L8: =D8-(I8+K8) -> 4.8262455 | M8: =E8-(H8/'Données environnement'!J$36 + J8/'Données environnement'!J$31) -> 0.085921737 | N8: =F8 -> 0.4 | O8: ='Données environnement'!$E$140*'Données Production '!$K$5*'Données Production '!$K$8/365 -> 0.053889895 | P8: Fosse ext couverte | U8: Métha psy + chaudière | V8: =L8-(R8/'Données environnement'!J$33 + 'Calcul simpl volaille'!T8/'Données environnement'!J$32)*'Données environnement'!J$37 - R8/'Données environnement'!J$34 - 'Calcul simpl volaille'!T8/'Données environnement'!J$35 -> 4.8262455 | W8: =N8 -> 0.4 | X8: =M8-(Q8/'Données environnement'!J$36 + S8/'Données environnement'!J$31) -> 0.085921737 | Y8: =O8-S8/'Données environnement'!J$31 -> 0.053889895 | Z8: =M8*'Données environnement'!$J$49*44/28*('Données environnement'!$J$47+(1-'Données environnement'!$J$48)) -> 0.0001012649 | AA8: =('Données environnement'!$J$47+(1-'Données environnement'!J48))*AF8*'Données environnement'!$J$28 + 'Données environnement'!$AF$254*AH8*'Données environnement'!J$58 -> 0.056317929 | AB8: ='Données environnement'!J$47*AH8*'Données environnement'!J$50*'Données environnement'!J$52 -> 3.4057206e-06 | AC8: =AA8/'Données environnement'!J$28/'Données environnement'!E$96*'Données environnement'!E$97*'Données environnement'!J$29 -> 0.10479057 | AD8: =(V8)/'Données environnement'!E$113/1000*'Données environnement'!J$45*'Données environnement'!AJ$254 -> 0.025616226 | AF8: =W8*V8*'Données Production '!B$29 -> 0.55984448 | AG8: =AF8/'Données environnement'!E$96*'Données environnement'!E$97 -> 0.37322966 | AH8: =AF8+AG8 -> 0.93307414 | AI8: chaudière | AJ8: =AH8*(1-'Données environnement'!J$58-'Données environnement'!J$47)*'Données environnement'!AM$252 -> 0 | AK8: =(AH8)*(1-'Données environnement'!J$58-'Données environnement'!J$47-(1-'Données environnement'!J48))*'Données environnement'!AQ$252 -> 0.0031982049 | AL8: 0 | AM8: =AK8/'Données environnement'!J$28/'Données environnement'!E$96*'Données environnement'!E$97*'Données environnement'!J$32 -> 0.011668409 | AO8: =V8-('Calcul simpl volaille'!AF8*'Données environnement'!J28+ 'Calcul simpl volaille'!AG8*'Données environnement'!J29+AK8+AM8) -> 3.7383437 | AP8: =N8 -> 0.4 | AQ8: =X8-Z8/'Données environnement'!J$36-'Calcul simpl volaille'!AB8/'Données environnement'!J$31 -> 0.085854423 | AR8: =Y8-AB8/'Données environnement'!J$31 -> 0.053887081 | AS8: =AQ8*'Données environnement'!AV$251*'Données environnement'!J$36 -> 0 | AT8: =AP8*AO8*'Données environnement'!J28*'Données environnement'!J74 -> 0.020839023 | AU8: =AR8*0.24*'Données environnement'!$J$31 -> 0.015648808 | AV8: =AT8/'Données environnement'!J$28/'Données environnement'!E$96*'Données environnement'!E$97*'Données environnement'!J$29 -> 0.038775097 | AW8: =AQ8*'Données environnement'!BC$251*'Données environnement'!J$31 -> 0.02077677 | AX8: =(AR8-AU8/'Données environnement'!$J$31)*0.54*0.525*'Données environnement'!J$31 -> 0.014048718 | AY8: =AQ8*'Données environnement'!BC$253*'Données environnement'!J$31 -> 0.0051941926 | BA8: =(I8+R8+AA8+AK8+AT8)*'Données environnement'!$J$12 -> 2.5592407 | BB8: =(H8+Q8+Z8+AJ8+AS8)*'Données environnement'!$J$14 -> 0.056882975 | BC8: =(J8+S8+AB8+AL8+AU8+AX8)*14/17*'Données environnement'!$J$15*44/28*'Données environnement'!$J$14 -> 0.15392208 | BD8: =BA8+BB8+BC8 -> 2.7700458
A9: CG 1 - Pas de racleur Pas de couverture-Pas de Métha | B9: Production canards gras au gavage | C9: Fosse sous caillebotis | D9: ='Données environnement'!E$118*'Données Production '!J$5*'Données Production '!J$8 -> 3.3598 | E9: ='Données environnement'!E$124*'Données Production '!J$5*'Données Production '!J$8/365 -> 0.017029123 | F9: ='Données environnement'!E$152 -> 0.38 | G9: ='Données environnement'!E$129*'Données Production '!J$5*'Données Production '!J$8/365 -> 0.011920386 | H9: ='Données environnement'!E$181*'Calcul simpl volaille'!E9*'Données environnement'!$J$36 -> 5.3471447e-05 | I9: ='Données environnement'!E$168*'Données Production '!J$5*'Données Production '!J$8/365 -> 0.11811621 | J9: ='Données environnement'!E$134*'Calcul simpl volaille'!G$9*'Données environnement'!$J$31 -> 0.0034616802 | K9: =I9/'Données environnement'!$E$96*'Données environnement'!$E$97/'Données environnement'!J$28*'Données environnement'!J$29 -> 0.21977842 | L9: =D9-(I9+K9) -> 3.0219054 | M9: =E9-(H9/'Données environnement'!J$36 + J9/'Données environnement'!J$31) -> 0.014134172 | N9: =F9 -> 0.38 | O9: ='Données environnement'!$E$139*'Données Production '!$J$5*'Données Production '!$J$8/365 -> 0.0094171052 | P9: Fosse extérieure non couverte | S9: ='Données environnement'!E144*O9*'Données environnement'!J31 -> 0.0027347273 | T9: =R9/'Données environnement'!$E$96*'Données environnement'!$E$97 -> 0 | U9: Pas de valorisation | V9: =L9-(R9/'Données environnement'!J$33 + 'Calcul simpl volaille'!T9/'Données environnement'!J$32)*'Données environnement'!J$37 - R9/'Données environnement'!J$34 - 'Calcul simpl volaille'!T9/'Données environnement'!J$35 -> 3.0219054 | W9: =N9 -> 0.38 | X9: =M9-(Q9/'Données environnement'!J$36 + S9/'Données environnement'!J$31) -> 0.011874067 | Y9: =O9-S9/'Données environnement'!J$31 -> 0.0071569999 | AI9: Pas de valorisation | AO9: =V9-(AA9 + 'Calcul simpl volaille'!AC9)*'Données environnement'!J$37 -> 3.0219054 | AP9: =N9 -> 0.38 | AQ9: =X9-Z9/'Données environnement'!J$36-'Calcul simpl volaille'!AB9/'Données environnement'!J$31 -> 0.011874067 | AR9: =Y9-AB9/'Données environnement'!J$31 -> 0.0071569999 | AU9: =AR9*0.24*'Données environnement'!$J$31 -> 0.0020783928 | AV9: =AT9/'Données environnement'!J$28/'Données environnement'!E$96*'Données environnement'!E$97*'Données environnement'!J$29 -> 0 | AW9: =AQ9*'Données environnement'!BC$251*'Données environnement'!J$31 -> 0.0028735242 | AX9: =(AR9-AU9/'Données environnement'!$J$31)*0.54*0.525*'Données environnement'!J$31 -> 0.0018658771 | AY9: =AQ9*'Données environnement'!BC$253*'Données environnement'!J$31 -> 0.00071838106 | BA9: =(I9+R9+AA9+AK9+AT9)*'Données environnement'!$J$12 -> 3.2127609 | BB9: =(H9+Q9+Z9+AJ9+AS9)*'Données environnement'!$J$14 -> 0.014597705 | BC9: =(J9+S9+AB9+AL9+AU9+AX9)*14/17*'Données environnement'!$J$15*44/28*'Données environnement'!$J$14 -> 0.035826417 | BD9: =BA9+BB9+BC9 -> 3.263185
A10: CG 2 - racleur + métha psy + chaudière | D10: ='Données environnement'!E$118*'Données Production '!J$5*'Données Production '!J$8 -> 3.3598 | E10: ='Données environnement'!E$124*'Données Production '!J$5*'Données Production '!J$8/365 -> 0.017029123 | F10: ='Données environnement'!E$152 -> 0.38 | G10: ='Données environnement'!E$129*'Données Production '!J$5*'Données Production '!J$8/365 -> 0.011920386 | H10: =0.2*'Données environnement'!E$181*'Calcul simpl volaille'!E10*'Données environnement'!$J$36 -> 1.0694289e-05 | I10: =0.01*'Données Production '!J$5*'Données Production '!J$8/365 -> 0.0046024658 | J10: =J9*'Données environnement'!D$173 -> 0.0024231761 | K10: =I10/'Données environnement'!$E$96*'Données environnement'!$E$97/'Données environnement'!J$28*'Données environnement'!J$29 -> 0.008563792 | L10: =D10-(I10+K10) -> 3.3466337 | M10: =E10-(H10/'Données environnement'!J$36 + J10/'Données environnement'!J$31) -> 0.015019687 | N10: =F10 -> 0.38 | O10: ='Données environnement'!$E$139*'Données Production '!$J$5*'Données Production '!$J$8/365 -> 0.0094171052 | P10: Fosse ext couverte | U10: Métha psy + chaudière | V10: =L10-(R10/'Données environnement'!J$33 + 'Calcul simpl volaille'!T10/'Données environnement'!J$32)*'Données environnement'!J$37 - R10/'Données environnement'!J$34 - 'Calcul simpl volaille'!T10/'Données environnement'!J$35 -> 3.3466337 | W10: =N10 -> 0.38 | X10: =M10-(Q10/'Données environnement'!J$36 + S10/'Données environnement'!J$31) -> 0.015019687 | Y10: =O10-S10/'Données environnement'!J$31 -> 0.0094171052 | Z10: =M10*'Données environnement'!$J$49*44/28*('Données environnement'!$J$47+(1-'Données environnement'!$J$48)) -> 1.7701774e-05 | AA10: =('Données environnement'!$J$47+(1-'Données environnement'!J48))*AF10*'Données environnement'!$J$28 + 'Données environnement'!$AF$254*AH10*'Données environnement'!J$58 -> 0.037099585 | AB10: ='Données environnement'!J$47*AH10*'Données environnement'!J$50*'Données environnement'!J$52 -> 2.2435275e-06 | AC10: =AA10/'Données environnement'!J$28/'Données environnement'!E$96*'Données environnement'!E$97*'Données environnement'!J$29 -> 0.069031069 | AD10: =(V10)/'Données environnement'!E$113/1000*'Données environnement'!J$45*'Données environnement'!AJ$254 -> 0.017762902 | AF10: =W10*V10*'Données Production '!B$29 -> 0.36879904 | AG10: =AF10/'Données environnement'!E$96*'Données environnement'!E$97 -> 0.24586603 | AH10: =AF10+AG10 -> 0.61466506 | AI10: chaudière | AJ10: =AH10*(1-'Données environnement'!J$58-'Données environnement'!J$47)*'Données environnement'!AM$252 -> 0 | AK10: =(AH10)*(1-'Données environnement'!J$58-'Données environnement'!J$47-(1-'Données environnement'!$J$48))*'Données environnement'!AQ$252 -> 0.002106826 | AL10: 0 | AM10: =AK10/'Données environnement'!J$28/'Données environnement'!E$96*'Données environnement'!E$97*'Données environnement'!J$32 -> 0.0076865956 | AO10: =V10-('Calcul simpl volaille'!AF10*'Données environnement'!J28 + 'Calcul simpl volaille'!AG10*'Données environnement'!J29+AK10+AM10) -> 2.6299755 | AP10: =N10 -> 0.38 | AQ10: =X10-Z10/'Données environnement'!J$36-'Calcul simpl volaille'!AB10/'Données environnement'!J$31 -> 0.015006558 | AR10: =Y10-AB10/'Données environnement'!J$31 -> 0.009415251 | AS10: =AQ10*'Données environnement'!AV$251*'Données environnement'!J$36 -> 0 | AT10: =AP10*AO10*'Données environnement'!J74*'Données environnement'!J28 -> 0.013927509 | AU10: =AR10*0.24*'Données environnement'!$J$31 -> 0.0027341889 | AV10: =AT10/'Données environnement'!J$28/'Données environnement'!E$96*'Données environnement'!E$97*'Données environnement'!J$29 -> 0.025914867 | AW10: =AQ10*'Données environnement'!BC$251*'Données environnement'!J$31 -> 0.0036315869 | AX10: =(AR10-AU10/'Données environnement'!$J$31)*0.54*0.525*'Données environnement'!J$31 -> 0.0024546181 | AY10: =AQ10*'Données environnement'!BC$253*'Données environnement'!J$31 -> 0.00090789673 | BA10: =(I10+R10+AA10+AK10+AT10)*'Données environnement'!$J$12 -> 1.5704297 | BB10: =(H10+Q10+Z10+AJ10+AS10)*'Données environnement'!$J$14 -> 0.0077521252 | BC10: =(J10+S10+AB10+AL10+AU10+AX10)*14/17*'Données environnement'!$J$15*44/28*'Données environnement'!$J$14 -> 0.026900615 | BD10: =BA10+BB10+BC10 -> 1.6050824
A11: VC1- sol B- Lit NonOptimisé- Pas de traitement | B11: Poulet de chair standard sur litière | C11: Pas de valorisation | D11: ='Données environnement'!E$116*'Données Production '!H$5*'Données Production '!H$8 -> 2.556 | E11: ='Données environnement'!E$122*'Données Production '!H$5*'Données Production '!H$8/365 -> 0.034313425 | F11: ='Données environnement'!E$150 -> 0.36 | G11: ='Données environnement'!E$127*'Données Production '!H$5*'Données Production '!H$8/365 -> 0.024019397 | H11: ='Données environnement'!E$181*'Calcul simpl volaille'!E11*'Données environnement'!$J$36 -> 0.00010774415 | I11: ='Données environnement'!E$162*'Données Production '!H$5*'Données Production '!H$8/365 -> 0.0091209284 | J11: ='Données environnement'!E$132*G11*'Données environnement'!J$31 -> 0.0081377718 | K11: =I11/'Données environnement'!$E$96*'Données environnement'!$E$97/'Données environnement'!J$28*'Données environnement'!J$29 -> 0.01697128 | L11: =D11-(I11+K11) -> 2.5299078 | M11: =E11-(H11/'Données environnement'!J$36 + J11/'Données environnement'!J$31) -> 0.027519367 | N11: =F11 -> 0.36 | O11: ='Données environnement'!$E$137*'Données Production '!$H$5*'Données Production '!$H$8/365 -> 0.01633319 | P11: Litière non optimisée | S11: ='Données environnement'!E$142*'Calcul simpl volaille'!O11*'Données environnement'!J$31 -> 0.0033597372 | T11: =R11/'Données environnement'!$E$96*'Données environnement'!$E$97 -> 0 | U11: Pas de valorisation | V11: =L11-(R11/'Données environnement'!J$33 + 'Calcul simpl volaille'!T11/'Données environnement'!J$32)*'Données environnement'!J$37 - R11/'Données environnement'!J$34 - 'Calcul simpl volaille'!T11/'Données environnement'!J$35 -> 2.5299078 | W11: =N11 -> 0.36 | X11: =M11-(Q11/'Données environnement'!J$36 + S11/'Données environnement'!J$31) -> 0.024742724 | Y11: =O11-S11/'Données environnement'!J$31 -> 0.013556548 | AI11: Pas de valorisation | AO11: =V11-(AA11 + 'Calcul simpl volaille'!AC11)*'Données environnement'!J$37 -> 2.5299078 | AP11: =N11 -> 0.36 | AQ11: =X11-Z11/'Données environnement'!J$36-'Calcul simpl volaille'!AB11/'Données environnement'!J$31 -> 0.024742724 | AR11: =Y11-AB11/'Données environnement'!J$31 -> 0.013556548 | AU11: =AR11*0.28*'Données environnement'!$J$31 -> 0.0045929584 | AV11: =AT11/'Données environnement'!J$28/'Données environnement'!E$96*'Données environnement'!E$97*'Données environnement'!J$29 -> 0 | AW11: =#REF!*'Données environnement'!BC$251*'Données environnement'!J$31 -> #REF! | AX11: =(AR11-AU11/'Données environnement'!$J$31)*0.38*0.75*'Données environnement'!J$31 -> 0.0033659824 | AY11: =AQ11*'Données environnement'!BC$253*'Données environnement'!J$31 -> 0.0014969348 | BA11: =(I11+R11+AA11+AK11+AT11)*'Données environnement'!$J$12 -> 0.24808925 | BB11: =(H11+Q11+Z11+AJ11+AS11)*'Données environnement'!$J$14 -> 0.029414154 | BC11: =(J11+S11+AB11+AL11+AU11+AX11)*14/17*'Données environnement'!$J$15*44/28*'Données environnement'!$J$14 -> 0.068738493 | BD11: =BA11+BB11+BC11 -> 0.3462419
A12: VC2- sol B- Lit NonOptimisé- Compostage | C12: Compostage | D12: ='Données environnement'!E$116*'Données Production '!H$5*'Données Production '!H$8 -> 2.556 | E12: ='Données environnement'!E$122*'Données Production '!H$5*'Données Production '!H$8/365 -> 0.034313425 | F12: ='Données environnement'!E$150 -> 0.36 | G12: ='Données environnement'!E$127*'Données Production '!H$5*'Données Production '!H$8/365 -> 0.024019397 | H12: =0.333*'Données environnement'!E$181*'Calcul simpl volaille'!E12*'Données environnement'!$J$36 -> 3.5878803e-05 | I12: ='Données environnement'!E$164*'Données Production '!H$5*'Données Production '!H$8/365 -> 0.0030403095 | J12: ='Données environnement'!E$132*G12*'Données environnement'!J$31 -> 0.0081377718 | K12: =I12/'Données environnement'!$E$96*'Données environnement'!$E$97/'Données environnement'!J$28*'Données environnement'!J$29 -> 0.0056570933 | L12: =D12-(I12+K12) -> 2.5473026 | M12: =E12-(H12/'Données environnement'!J$36 + J12/'Données environnement'!J$31) -> 0.027565141 | N12: =F12 -> 0.36 | O12: ='Données environnement'!$E$137*'Données Production '!$H$5*'Données Production '!$H$8/365 -> 0.01633319 | S12: ='Données environnement'!E$142*'Calcul simpl volaille'!O12*'Données environnement'!J$31 -> 0.0033597372 | T12: =R12/'Données environnement'!$E$96*'Données environnement'!$E$97 -> 0 | U12: Compostage | V12: =L12-(R12/'Données environnement'!J$33 + 'Calcul simpl volaille'!T12/'Données environnement'!J$32)*'Données environnement'!J$37 - R12/'Données environnement'!J$34 - 'Calcul simpl volaille'!T12/'Données environnement'!J$35 -> 2.5473026 | W12: =N12 -> 0.36 | X12: =M12*0.75 -> 0.020673856 | Y12: =O12*0.75 -> 0.012249893 | AI12: Pas de valorisation | AO12: =V12-(AA12 + 'Calcul simpl volaille'!AC12)*'Données environnement'!J$37 -> 2.5473026 | AP12: =N12 -> 0.36 | AQ12: =X12-Z12/'Données environnement'!J$36-'Calcul simpl volaille'!AB12/'Données environnement'!J$31 -> 0.020673856 | AR12: =Y12-AB12/'Données environnement'!J$31 -> 0.012249893 | AU12: 0 | AV12: =AT12/'Données environnement'!J$28/'Données environnement'!E$96*'Données environnement'!E$97*'Données environnement'!J$29 -> 0 | AW12: =#REF!*'Données environnement'!BC$251*'Données environnement'!J$31 -> #REF! | AX12: 0 | AY12: =AQ12*'Données environnement'!BC$253*'Données environnement'!J$31 -> 0.0012507683 | BA12: =(I12+R12+AA12+AK12+AT12)*'Données environnement'!$J$12 -> 0.082696418 | BB12: =(H12+Q12+Z12+AJ12+AS12)*'Données environnement'!$J$14 -> 0.0097949132 | BC12: =(J12+S12+AB12+AL12+AU12+AX12)*14/17*'Données environnement'!$J$15*44/28*'Données environnement'!$J$14 -> 0.040620023 | BD12: =BA12+BB12+BC12 -> 0.13311135
A13: VC3- sol B-Non optimisé-Métha collective-Biométhane | D13: ='Données environnement'!E$116*'Données Production '!H$5*'Données Production '!H$8 -> 2.556 | E13: ='Données environnement'!E$122*'Données Production '!H$5*'Données Production '!H$8/365 -> 0.034313425 | F13: ='Données environnement'!E$150 -> 0.36 | G13: ='Données environnement'!E$127*'Données Production '!H$5*'Données Production '!H$8/365 -> 0.024019397 | H13: =0.333*'Données environnement'!E$181*'Calcul simpl volaille'!E13*'Données environnement'!$J$36 -> 3.5878803e-05 | I13: =0.004*'Données Production '!H$5*'Données Production '!H$8/365 -> 0.0028010959 | J13: ='Données environnement'!E$132*G13*'Données environnement'!J$31 -> 0.0081377718 | K13: =I13/'Données environnement'!$E$96*'Données environnement'!$E$97/'Données environnement'!J$28*'Données environnement'!J$29 -> 0.0052119894 | L13: =D13-(I13+K13) -> 2.5479869 | M13: =E13-(H13/'Données environnement'!J$36 + J13/'Données environnement'!J$31) -> 0.027565141 | N13: =F13 -> 0.36 | O13: ='Données environnement'!$E$137*'Données Production '!$H$5*'Données Production '!$H$8/365 -> 0.01633319 | U13: M collective | V13: =L13-(R13/'Données environnement'!J$33 + 'Calcul simpl volaille'!T13/'Données environnement'!J$32)*'Données environnement'!J$37 - R13/'Données environnement'!J$34 - 'Calcul simpl volaille'!T13/'Données environnement'!J$35 -> 2.5479869 | W13: =N13 -> 0.36 | X13: =M13-(Q13/'Données environnement'!J$36 + S13/'Données environnement'!J$31) -> 0.027565141 | Y13: =O13-S13/'Données environnement'!J$31 -> 0.01633319 | Z13: =M13*'Données environnement'!$J$49*44/28*('Données environnement'!$J$47) -> 1.0829162e-05 | AA13: ='Données environnement'!$J$47*AF13*'Données environnement'!$J$28 + 'Données environnement'!$AF$254*AH13*'Données environnement'!J$58 -> 0.030816475 | AB13: ='Données environnement'!J$47*AH13*'Données environnement'!J$50*'Données environnement'!J$52 -> 5.5800913e-06 | AC13: =AA13/'Données environnement'!J$28/'Données environnement'!E$96*'Données environnement'!E$97*'Données environnement'!J$29 -> 0.057340107 | AD13: =(V13)/'Données environnement'!E$113/1000*'Données environnement'!J$45*'Données environnement'!AJ$254 -> 0.013523931 | AE13: =V13/'Données environnement'!E110/1000*'Données environnement'!J$22*'Données environnement'!J$24 -> 0.012257883 | AF13: =W13*V13*'Données Production '!B$30 -> 0.91727529 | AG13: =AF13/'Données environnement'!E$96*'Données environnement'!E$97 -> 0.61151686 | AH13: =AF13+AG13 -> 1.5287921 | AI13: Biométhane | AJ13: 0 | AK13: =(AH13)*(1-'Données environnement'!J$58-'Données environnement'!J$47)*'Données environnement'!$AQ$253*'Données environnement'!$J$28 -> 0.00071329968 | AL13: 0 | AM13: =AK13/'Données environnement'!J$28/'Données environnement'!E$96*'Données environnement'!E$97*'Données environnement'!J$32 -> 0.0026024201 | AN13: =AH13*(1-'Données environnement'!J$58-'Données environnement'!J$47)*('Données environnement'!J$63*('Données environnement'!J$64*'Données environnement'!J$66 + 'Données environnement'!J$65*'Données environnement'!J$27) + 'Données environnement'!J$27*('Données environnement'!J$67 + 'Données environnement'!J$69) + 'Données environnement'!J$70*'Données environnement'!J$71) -> 0.7860246 | AO13: =V13-('Calcul simpl volaille'!AF13*'Données environnement'!J28 + 'Calcul simpl volaille'!AG13*'Données environnement'!J29+AK13+AM13) -> 0.78656022 | AP13: =N13 -> 0.36 | AQ13: =X13-Z13/'Données environnement'!J$36-'Calcul simpl volaille'!AB13/'Données environnement'!J$31 -> 0.027553631 | AR13: =Y13-AB13/'Données environnement'!J$31 -> 0.016328578 | AS13: =AQ13*'Données environnement'!AV$251*'Données environnement'!J$36 -> 0 | AT13: =AP13*AO13*'Données environnement'!J28*'Données environnement'!J74 -> 0.0039461412 | AU13: =AR13*0.28*'Données environnement'!$J$31 -> 0.0055321224 | AV13: =AT13/'Données environnement'!J$28/'Données environnement'!E$96*'Données environnement'!E$97*'Données environnement'!J$29 -> 0.0073425712 | AW13: =AQ13*'Données environnement'!BC$251*'Données environnement'!J$31 -> 0.0066679788 | AX13: =(AR13-AU13/'Données environnement'!$J$31)*0.38*0.75*'Données environnement'!J$31 -> 0.0040542554 | AY13: =AQ13*'Données environnement'!BC$253*'Données environnement'!J$31 -> 0.0016669947 | BA13: =(I13+R13+AA13+AK13+AT13)*'Données environnement'!$J$12 -> 1.0411347 | BB13: =(H13+Q13+Z13+AJ13+AS13)*'Données environnement'!$J$14 -> 0.012751275 | BC13: =(J13+S13+AB13+AL13+AU13+AX13)*14/17*'Données environnement'!$J$15*44/28*'Données environnement'!$J$14 -> 0.062638092 | BD13: =BA13+BB13+BC13+AE13 -> 1.128782
A14: CPAG 1 | B14: Canard gras prêt à gaver | C14: Pas de valorisation | D14: ='Données environnement'!E$117*'Données Production '!I$5*'Données Production '!I$8 -> 23.68 | E14: ='Données environnement'!E$123*'Données Production '!I$5*'Données Production '!I$8/365 -> 0.04460274 | F14: ='Données environnement'!E$151 -> 0.36 | G14: ='Données environnement'!E$128*'Données Production '!I$5*'Données Production '!I$8/365 -> 0.031221918 | H14: ='Données environnement'!E$181*'Calcul simpl volaille'!E14*'Données environnement'!$J$36 -> 0.0001400526 | I14: ='Données environnement'!E$163*'Données Production '!I$5*'Données Production '!I$8/365 -> 0.08450062 | J14: ='Données environnement'!E$133*'Calcul simpl volaille'!G14*'Données environnement'!J$31 -> 0.0090668449 | K14: =I14/'Données environnement'!$E$96*'Données environnement'!$E$97/'Données environnement'!J$28*'Données environnement'!J$29 -> 0.15723001 | L14: =D14-(I14+K14) -> 23.438269 | M14: =E14-(H14/'Données environnement'!J$36 + J14/'Données environnement'!J$31) -> 0.037020274 | N14: =F14 -> 0.36 | O14: ='Données environnement'!$E$138*'Données Production '!$I$5*'Données Production '!$I$8/365 -> 0.016859836 | P14: Litière non optimisée | S14: ='Données environnement'!E$142*'Calcul simpl volaille'!O14*'Données environnement'!J$31 -> 0.0034680682 | T14: =R14/'Données environnement'!$E$96*'Données environnement'!$E$97 -> 0 | U14: Pas de valorisation | V14: =L14-(R14/'Données environnement'!J$33 + 'Calcul simpl volaille'!T14/'Données environnement'!J$32)*'Données environnement'!J$37 - R14/'Données environnement'!J$34 - 'Calcul simpl volaille'!T14/'Données environnement'!J$35 -> 23.438269 | W14: =N14 -> 0.36 | X14: =M14-(Q14/'Données environnement'!J$36 + S14/'Données environnement'!J$31) -> 0.034154102 | Y14: =O14-S14/'Données environnement'!J$31 -> 0.013993664 | AI14: Pas de valorisation | AO14: =V14-(AA14 + 'Calcul simpl volaille'!AC14)*'Données environnement'!J$37 -> 23.438269 | AP14: =N14 -> 0.36 | AQ14: =X14-Z14/'Données environnement'!J$36-'Calcul simpl volaille'!AB14/'Données environnement'!J$31 -> 0.034154102 | AR14: =Y14-AB14/'Données environnement'!J$31 -> 0.013993664 | AU14: =AR14*0.24*'Données environnement'!$J$31 -> 0.0040637599 | AV14: =AT14/'Données environnement'!J$28/'Données environnement'!E$96*'Données environnement'!E$97*'Données environnement'!J$29 -> 0 | AW14: =#REF!*'Données environnement'!BC$251*'Données environnement'!J$31 -> #REF! | AX14: =(AR14-AU14/'Données environnement'!$J$31)*0.54*0.525*'Données environnement'!J$31 -> 0.0036482404 | AY14: =AQ14*'Données environnement'!BC$253*'Données environnement'!J$31 -> 0.0020663232 | BA14: =(I14+R14+AA14+AK14+AT14)*'Données environnement'!$J$12 -> 2.2984169 | BB14: =(H14+Q14+Z14+AJ14+AS14)*'Données environnement'!$J$14 -> 0.038234361 | BC14: =(J14+S14+AB14+AL14+AU14+AX14)*14/17*'Données environnement'!$J$15*44/28*'Données environnement'!$J$14 -> 0.071531154 | BD14: =BA14+BB14+BC14 -> 2.4081824
A15: CPAG 2 | C15: Compostage | D15: ='Données environnement'!E$117*'Données Production '!I$5*'Données Production '!I$8 -> 23.68 | E15: ='Données environnement'!E$123*'Données Production '!I$5*'Données Production '!I$8/365 -> 0.04460274 | F15: ='Données environnement'!E$151 -> 0.36 | G15: ='Données environnement'!E$128*'Données Production '!I$5*'Données Production '!I$8/365 -> 0.031221918 | H15: =0.333*'Données environnement'!E$181*'Calcul simpl volaille'!E15*'Données environnement'!$J$36 -> 4.6637517e-05 | I15: ='Données environnement'!E$165*'Données Production '!I$5*'Données Production '!I$8/365 -> 0.028166873 | J15: ='Données environnement'!E$133*'Calcul simpl volaille'!G15*'Données environnement'!J$31 -> 0.0090668449 | K15: =I15/'Données environnement'!$E$96*'Données environnement'!$E$97/'Données environnement'!J$28*'Données environnement'!J$29 -> 0.052410003 | L15: =D15-(I15+K15) -> 23.599423 | M15: =E15-(H15/'Données environnement'!J$36 + J15/'Données environnement'!J$31) -> 0.037079774 | N15: =F15 -> 0.36 | O15: ='Données environnement'!$E$138*'Données Production '!$I$5*'Données Production '!$I$8/365 -> 0.016859836 | S15: ='Données environnement'!E$142*'Calcul simpl volaille'!O15*'Données environnement'!J$31 -> 0.0034680682 | T15: =R15/'Données environnement'!$E$96*'Données environnement'!$E$97 -> 0 | U15: Compostage | V15: =L15-(R15/'Données environnement'!J$33 + 'Calcul simpl volaille'!T15/'Données environnement'!J$32)*'Données environnement'!J$37 - R15/'Données environnement'!J$34 - 'Calcul simpl volaille'!T15/'Données environnement'!J$35 -> 23.599423 | W15: =N15 -> 0.36 | X15: =M15*0.75 -> 0.027809831 | Y15: =O15*0.75 -> 0.012644877 | AI15: Pas de valorisation | AO15: =V15-(AA15 + 'Calcul simpl volaille'!AC15)*'Données environnement'!J$37 -> 23.599423 | AP15: =N15 -> 0.36 | AQ15: =X15-Z15/'Données environnement'!J$36-'Calcul simpl volaille'!AB15/'Données environnement'!J$31 -> 0.027809831 | AR15: =Y15-AB15/'Données environnement'!J$31 -> 0.012644877 | AU15: 0 | AV15: =AT15/'Données environnement'!J$28/'Données environnement'!E$96*'Données environnement'!E$97*'Données environnement'!J$29 -> 0 | AW15: =#REF!*'Données environnement'!BC$251*'Données environnement'!J$31 -> #REF! | AX15: 0 | AY15: =AQ15*'Données environnement'!BC$253*'Données environnement'!J$31 -> 0.0016824947 | BA15: =(I15+R15+AA15+AK15+AT15)*'Données environnement'!$J$12 -> 0.76613896 | BB15: =(H15+Q15+Z15+AJ15+AS15)*'Données environnement'!$J$14 -> 0.012732042 | BC15: =(J15+S15+AB15+AL15+AU15+AX15)*14/17*'Données environnement'!$J$15*44/28*'Données environnement'!$J$14 -> 0.044285111 | BD15: =BA15+BB15+BC15 -> 0.82315611
A16: CPAG 3 | B16: Métha collective | D16: ='Données environnement'!E$117*'Données Production '!I$5*'Données Production '!I$8 -> 23.68 | E16: ='Données environnement'!E$123*'Données Production '!I$5*'Données Production '!I$8/365 -> 0.04460274 | F16: ='Données environnement'!E$151 -> 0.36 | G16: ='Données environnement'!E$128*'Données Production '!I$5*'Données Production '!I$8/365 -> 0.031221918 | H16: =0.333*'Données environnement'!E$181*'Calcul simpl volaille'!E16*'Données environnement'!$J$36 -> 4.6637517e-05 | I16: =0.035*'Données Production '!I$5*'Données Production '!I$8/365 -> 0.028383562 | J16: ='Données environnement'!E$133*'Calcul simpl volaille'!G16*'Données environnement'!J$31 -> 0.0090668449 | K16: =I16/'Données environnement'!$E$96*'Données environnement'!$E$97/'Données environnement'!J$28*'Données environnement'!J$29 -> 0.052813194 | L16: =D16-(I16+K16) -> 23.598803 | M16: =E16-(H16/'Données environnement'!J$36 + J16/'Données environnement'!J$31) -> 0.037079774 | N16: =F16 -> 0.36 | O16: ='Données environnement'!$E$138*'Données Production '!$I$5*'Données Production '!$I$8/365 -> 0.016859836 | U16: M collective | V16: =L16-(R16/'Données environnement'!J$33 + 'Calcul simpl volaille'!T16/'Données environnement'!J$32)*'Données environnement'!J$37 - R16/'Données environnement'!J$34 - 'Calcul simpl volaille'!T16/'Données environnement'!J$35 -> 23.598803 | W16: =N16 -> 0.36 | X16: =M16-(Q16/'Données environnement'!J$36 + S16/'Données environnement'!J$31) -> 0.037079774 | Y16: =O16-S16/'Données environnement'!J$31 -> 0.016859836 | Z16: =M16*'Données environnement'!$J$49*44/28*('Données environnement'!$J$47) -> 1.4567054e-05 | AA16: ='Données environnement'!$J$47*AF16*'Données environnement'!$J$28 + 'Données environnement'!$AF$254*AH16*'Données environnement'!J$58 -> 0.28541431 | AB16: ='Données environnement'!J$47*AH16*'Données environnement'!J$50*'Données environnement'!J$52 -> 5.1681379e-05 | AC16: =AA16/'Données environnement'!J$28/'Données environnement'!E$96*'Données environnement'!E$97*'Données environnement'!J$29 -> 0.53106941 | AD16: =(V16)/'Données environnement'!E$113/1000*'Données environnement'!J$45*'Données environnement'!AJ$254 -> 0.12525519 | AE16: =V16/'Données environnement'!E$111/1000*'Données environnement'!J$22*'Données environnement'!J$24 -> 0.23837948 | AF16: =W16*V16*'Données Production '!B$30 -> 8.4955692 | AG16: =AF16/'Données environnement'!E$96*'Données environnement'!E$97 -> 5.6637128 | AH16: =AF16+AG16 -> 14.159282 | AI16: Biométhane | AJ16: 0 | AK16: =(AH16)*(1-'Données environnement'!J$58-'Données environnement'!J$47)*'Données environnement'!$AQ$253*'Données environnement'!$J$28 -> 0.0066063993 | AL16: 0 | AM16: =AK16/'Données environnement'!J$28/'Données environnement'!E$96*'Données environnement'!E$97*'Données environnement'!J$32 -> 0.024102949 | AN16: =AH16*(1-'Données environnement'!J$58-'Données environnement'!J$47)*('Données environnement'!J$63*('Données environnement'!J$64*'Données environnement'!J$66 + 'Données environnement'!J$65*'Données environnement'!J$27) + 'Données environnement'!J$27*('Données environnement'!J$67 + 'Données environnement'!J$69) + 'Données environnement'!J$70*'Données environnement'!J$71) -> 7.2799588 | AO16: =V16-('Calcul simpl volaille'!AF16*'Données environnement'!J28 + 'Calcul simpl volaille'!AG16*'Données environnement'!J29+AK16+AM16) -> 7.2849197 | AP16: =N16 -> 0.36 | AQ16: =X16-Z16/'Données environnement'!J$36-'Calcul simpl volaille'!AB16/'Données environnement'!J$31 -> 0.037027784 | AR16: =Y16-AB16/'Données environnement'!J$31 -> 0.016817124 | AS16: =AQ16*'Données environnement'!AV$251*'Données environnement'!J$36 -> 0 | AT16: =AP16*AO16*'Données environnement'!J74*'Données environnement'!J28 -> 0.036548151 | AU16: =AR16*0.24*'Données environnement'!$J$31 -> 0.0048836927 | AV16: =AT16/'Données environnement'!J$28/'Données environnement'!E$96*'Données environnement'!E$97*'Données environnement'!J$29 -> 0.068005016 | AW16: =AQ16*'Données environnement'!BC$251*'Données environnement'!J$31 -> 0.0089607237 | AX16: =(AR16-AU16/'Données environnement'!$J$31)*0.54*0.525*'Données environnement'!J$31 -> 0.0043843352 | AY16: =AQ16*'Données environnement'!BC$253*'Données environnement'!J$31 -> 0.0022401809 | BA16: =(I16+R16+AA16+AK16+AT16)*'Données environnement'!$J$12 -> 9.7091059 | BB16: =(H16+Q16+Z16+AJ16+AS16)*'Données environnement'!$J$14 -> 0.016708848 | BC16: =(J16+S16+AB16+AL16+AU16+AX16)*14/17*'Données environnement'!$J$15*44/28*'Données environnement'!$J$14 -> 0.064958614 | BD16: =BA16+BB16+BC16+AE16 -> 10.029153

Sheet Calcul simpl bovin
C1: Conduite d'élevage | I1: Gestion des effluents en batiment | N1: Valorisation des effluents | AA1: Valorisation du biogaz | AD1: Modalités d'épandage | AG1: Résultats finaux
N2: Fosse extérieure | AA2: Pas de valorisation | AD2: Pour le mode d'épandage: buse palette, pendillard, enfouisseur
C3: Type de sol | I3: Evacuation | N3: Traitement BA | AA3: Torchère | AD3: Pas de différences de coeff d'attribution selon le scénario | AO3: Emissions à l'épandage
C4: Mode de logement | I4: Stockage | N4: M psychrophile | AA4: chaudière | AD4: hormis situation actuelle mais métha négligeable | AO4: non validé
C5: … | I5: Traitement de litière | N5: M mésophile | AA5: Cogé | AD5: Changement uniquement via les décennies | AO5: mais émission indirectes de N2O négligeables
I6: … | N6: M collective | AA6: Biométhane
D8: Emissions entérique | E8: Excrétion au batiment (kg/animal/an) | J8: Emissions au batiment/stockage (kg/animal/an) | O8: Bilan sortie de bâtiment et/ou entrée de méthanisation (kg/animal/an) | S8: Emissions dues au processus à la méthanisation kg/animal/an | X8: Production brute de Biogaz m3/animal/an | AB8: Emissions lors de la combustion du biométhane en kg/animal/an | AG8: Bilan sortie méthanisation | AL8: Emissions au stockage du digestat en kg/animal/an | AO8: Emissions à l'épandage en kg/animal/an | AS8: Equivalent CO2 (en kg/animal/an) | AY8: Transport
X9: Les fuites seront à retrancher ensuite | AG9: MO kg/animal/an | AH9: MO kg/animal/an | AO9: Buse palette | AP9: Pendillard | AQ9: Injection dans le sol | AS9: issu | AT9: issu | AU9: issu | AV9: soit Eq. | AY9: CO2
D10: CH4 en kg/animal/an | E10: MO kg/animal/an | F10: kg N/an | G10: BMP m3 de CH4/kg de MO | H10: TAN | J10: N2O | K10: CH4 kg/animal/an | L10: NH3 | M10: CO2 | O10: MO kg/animal/an | P10: BMP m3 de CH4/kg de MO | Q10: N | R10: TAN | S10: N2O | T10: CH4 | U10: NH3 | V10: CO2 | W10: eqCO2 | X10: CH4 | Y10: CO2 | Z10: Biogaz | AB10: N2O | AC10: CH4 | AD10: NH3 | AE10: CO2 | AF10: eqCO2 | AG10: Selon NQ | AH10: Selon PL | AI10: BMP m3 de CH4/kg de MO | AJ10: N kg/animal/an | AK10: TAN kg/animal/an | AL10: N2O | AM10: CH4 | AN10: NH3 | AO10: NH3 | AP10: NH3 | AQ10: NH3 | AS10: CH4 | AT10: N2O (dir.) | AU10: N2O (indirect.) | AV10: CO2 | AY10: kg/anl/an
A12: VL 1 | B12: Vache laitière | C12: Stabulation logettes - LISIER/LISIER PAILLEUX | D12: ='Données environnement'!D$196 -> 117 | E12: ='Données environnement'!D$192/1000*'Données environnement'!D$188*365 -> 1995.528 | F12: ='Données environnement'!D$226 -> 113.88 | G12: ='Données environnement'!D$208 -> 0.201 | I12: LISIER - logettes couloirs raclés / stockage fosse extérieure - Fréquence de raclage "standard" 6 à 8 fois/jour | J12: ='Calcul simpl bovin'!$F$12*'Données environnement'!$J$36*'Données environnement'!D$232 -> 0.893958 | K12: ='Calcul simpl bovin'!E12*G12*'Données environnement'!D215 -> 81.423529 | L12: ='Données environnement'!$C$237 -> 19.2 | M12: =K12/'Données environnement'!J$28/'Données environnement'!E$96*'Données environnement'!E$97*'Données environnement'!J$29 -> 151.50448 | N12: Pas de valorisation - filière classique stockage en fosse non couverte et épandage | O12: =E12-K12 - M12 -> 1762.6 | P12: =G12 -> 0.201 | Q12: =F12-J12/'Données environnement'!J$36-L12/'Données environnement'!J$31 -> 97.442831 | R12: =H12-L12/'Données environnement'!J$31 -> -15.867769 | AA12: Pas de valorisation | AO12: =AJ12*'Données environnement'!BC$251*'Données environnement'!J$31 -> 0 | AP12: =Q12*'Données environnement'!J75*0.55*0.525*'Données environnement'!J$31 -> 20.427184 | AQ12: =AJ12*'Données environnement'!BC$253*'Données environnement'!J$31 -> 0 | AS12: =(K12+T12+AC12+AM12)*'Données environnement'!$J$12 -> 2214.72 | AT12: =(J12+S12+AB12+AL12)*'Données environnement'!$J$14 -> 244.05053 | AU12: =((L12+0.5*AN12+AP12)*14/17*'Données environnement'!$J$15*44/28)*'Données environnement'!$J$14 -> 140.00051 | AV12: =AS12+AT12+AU12 -> 2598.771
A13: VL 2 | D13: ='Données environnement'!D$196 -> 117 | E13: ='Données environnement'!D$192/1000*'Données environnement'!D$188*365 -> 1995.528 | F13: ='Données environnement'!D$226 -> 113.88 | G13: ='Données environnement'!D$208 -> 0.201 | I13: LISIER - logettes couloirs raclés / stockage fosse extérieure - Fréquence de raclage "optimale" 12 à 16 fois/jour | J13: ='Calcul simpl bovin'!$F$13*'Données environnement'!$J$36*'Données environnement'!D$232 -> 0.893958 | K13: ='Calcul simpl bovin'!E$13*G$13*'Données environnement'!D$219 -> 15.642944 | L13: ='Données environnement'!$C$237 -> 19.2 | M13: =K13/'Données environnement'!J$28/'Données environnement'!E$96*'Données environnement'!E$97*'Données environnement'!J$29 -> 29.106771 | N13: Valorisation - Méthanisation psychrophile individuelle | O13: =E13-K13 - M13 -> 1950.7783 | P13: =G13 -> 0.201 | Q13: =F13-J13/'Données environnement'!J$36-L13/'Données environnement'!J$31 -> 97.442831 | R13: =H13-L13/'Données environnement'!J$31 -> -15.867769 | S13: =Q13*'Données environnement'!$J$49*44/28*('Données environnement'!$J$47+(1-'Données environnement'!$J$48)) -> 0.11484334 | T13: =('Données environnement'!$J$47*X13*'Données environnement'!$J$28+X13*(1-'Données environnement'!J48)*'Données environnement'!J28 + 'Données environnement'!$AF$254*Z13*'Données environnement'!J$58)*'Données environnement'!J$83 -> 11.43882 | U13: ='Données environnement'!J$47*Z13*'Données environnement'!J$50*'Données environnement'!J$52 -> 0.0006917411 | V13: =T13/'Données environnement'!J$28/'Données environnement'!E$96*'Données environnement'!E$97*'Données environnement'!J$29 -> 21.284173 | W13: ='Données environnement'!D$200/1000*'Données environnement'!J$45*'Données environnement'!AJ$254 -> 10.27548 | X13: =O13*P13*'Données Production '!B$29 -> 113.71087 | Y13: =X13/'Données environnement'!E$96*'Données environnement'!E$97 -> 75.807244 | Z13: =Y13+X13 -> 189.51811 | AA13: Chaudière | AB13: =Z13*(1-'Données environnement'!J$58-'Données environnement'!J$47)*'Données environnement'!AM$252 -> 0 | AC13: =Z13*(1-'Données environnement'!J$58-'Données environnement'!J$47-(1-'Données environnement'!$J$48))*'Données environnement'!AQ252 -> 0.64959228 | AD13: 0 | AE13: =AC13/'Données environnement'!J$28/'Données environnement'!E$96*'Données environnement'!E$97*'Données environnement'!J$29 -> 1.2086941 | AG13: =O13-(X13/'Données environnement'!J$33*'Données environnement'!J$28+Y13/'Données environnement'!J$32*'Données environnement'!J$29) - X13/'Données environnement'!J$34*'Données environnement'!J$28 - Y13/'Données environnement'!J$35*'Données environnement'!J$29 -> 1732.8325 | AH13: =E13-(K13+X13)*'Données environnement'!$J$28-(M13+Y13)*'Données environnement'!$J$29 -> 1712.6717 | AI13: =P13 -> 0.201 | AJ13: =Q$13-(S13/'Données environnement'!J$36 + 'Calcul simpl bovin'!U13/'Données environnement'!J$31) -> 97.369111 | AK13: =AJ13*'Données environnement'!$J$75 -> 58.421467 | AM13: =AG13*AI13*'Données environnement'!$J$74*'Données environnement'!$J$28 -> 4.8538994 | AN13: =AK13*'Données environnement'!AZ$251*'Données environnement'!$J$31 -> 7.7758972 | AO13: =AJ13*'Données environnement'!BC$251*'Données environnement'!J$31 -> 23.563325 | AP13: =AK13*0.55*0.525*'Données environnement'!J$31 -> 20.41173 | AQ13: =AJ13*'Données environnement'!BC$253*'Données environnement'!J$31 -> 5.8908312 | AS13: =(K13+T13+AC13+AM13)*'Données environnement'!$J$12 -> 886.31896 | AT13: =(J13+S13+AB13+AL13)*'Données environnement'!$J$14 -> 275.40277 | AU13: =((L13+0.5*AN13+AP13)*14/17*'Données environnement'!$J$15*44/28)*'Données environnement'!$J$14 -> 153.68181 | AV13: =AS13+AT13+AU13 -> 1315.4035
