Workbook

Sheet PRESENTATION 

Sheet INTRODUCTION

Sheet LEGENDE ET AIDE
E10: LEGENDES ET CASES :
F12: : menu déroulant
F14: : saisie libre
F16: : case de calculs, à ne pas remplir
F18: : case d'explications ou de conseils
E20: 3 méthodes pour mesurer le volume des canalisations :
E145: CONCEPTION ET INSTALLATION :
E241: DIAGNOSTIC PHYSICO-CHIMIQUE :
D243: Impact du pH
E270: ENTRETIEN AU VIDE SANITAIRE :

Sheet FICHE SIGNALETIQUE
E8: Identité de l'élevage
E9: Nom de l'éleveur
E10: Localisation
E11: Identification du bâtiment évalué
E12: Système d'élevage et équipements
E13: Espèce de volailles | F13: Poulet de chair
E14: Type d'élevage | F14: Standard
E15: Nombre d'animaux dans le batiment audité | F15: 30000
E16: Equipements d'abreuvement
E18: Nombre de lignes d'eau | F18: 8
E19: Source principale de l'eau
E20: Source secondaire

Sheet CALCULATEURS
H9: Calcul du volume d'eau des canalisations
H10: Type de canalisation | I10: Carrée | J10: Ronde | K10: 2
H11: Longueur d'une ligne d'abreuvement (m) | I11: 60
H12: Volume d'une ligne (L) | I12: =IF(AND(K10=1),((I11*(I13/100)*(I13/100)*1000)),IF(AND(K10=2),((I11*(((I13/2)/100)*((I13/2)/100)*3.14*1000))))) -> 42.39
H13: Section des tuyaux (d en cm) | I13: 3
H14: Volume total CALCULE du circuit d'eau (L) | I14: =IF(ISBLANK(I15),(I12*('FICHE SIGNALETIQUE'!F18+0.75))+10,"") -> 380.9125
H15: Volume total MESURE du circuit d'eau (L)
H16: Concentration recommandée pour les produits N&D | J16: Quantité de produit nécessaire pour les produits N&D
H17: Concentration recommandée de solution basique (%) | I17: 2 | J17: Quantité de solution basique (L) | K17: =IF(ISBLANK(I15),I17*I14/100,I17*I15/100) -> 7.61825
H18: Concentration recommandée de solution acide (%) | I18: 1 | J18: Quantité de solution acide (L) | K18: =IF(ISBLANK(I15),I18*I14/100,I18*I15/100) -> 3.809125
H19: Concentration recommandée de solution désinfectant (%) | I19: 1 | J19: Quantité de désinfectant (L) | K19: =IF(ISBLANK(I15),I19*I14/100,I19*I15/100) -> 3.809125
H20: Calculateur du débit et de la pression au nettoyage
H21: Litres obtenus (L) | I21: 97
H22: Temps chronométré (s) | I22: 300
H23: Débit du circuit(m3/s) | I23: =(I21/1000)/I22 -> 0.00032333333
H24: Vitesse de l'eau (m/s) | I24: =(I23)/(PI()*((I13/100)/2)^2) -> 0.4574231
H25: Calculateur du temps total de vidange du circuit
H26: Temps de purge pour une ligne (min) | I26: =((I12/1000)/(I23)/60) -> 2.1850515
H27: Temps de purge de toutes les canalisations (min) | I27: =I26*('FICHE SIGNALETIQUE'!F18+0.75) -> 19.119201

Sheet CONCEPTION ET INSTALLATION
E8: Informations générales sur le circuit | M8: Cellule liées | N8: Score
F9: Matériau majoritaire du circuit | J9: PEHD, PVC | K9: PEBD, PER | M9: FALSE | N9: =IF(M9=TRUE,1,0) -> 0
J10: Autres
F11: Présence d'un circuit mâle et d'un circuit femelle | J11: Oui | K11: Non | M11: FALSE | N11: =IF(M11=TRUE,0,0) -> 0
E12: Equipement du tableau d'eau
E13: Filtres pour un même circuit (en série) | F13: Filtre 1 | J13: Présence | K13: Absence | M13: FALSE | N13: =IF(M13=TRUE,1,0) -> 0
F14: Porosité X (microns) | J14: 150
F15: Filtre 2 | J15: Présence | K15: Absence | M15: FALSE | N15: =IF(M15=TRUE,1,0) -> 0
F16: Porosité Y (microns) | J16: 110
E17: Compteur d'eau | F17: Compteur d'eau fonctionnel | J17: Oui | K17: Non | M17: FALSE | N17: =IF(M17=TRUE,1,0) -> 0 | O17: Abreuvoirs présents dans le bâtiment d'élevage
E18: Pression du circuit | F18: Réducteur de pression fonctionnel | J18: Oui | K18: Non | M18: FALSE | N18: =IF(M18=TRUE,1,0) -> 0 | O18: Nb d'abrevoirs totals | T18: Recommandations
F19: Manomètre fonctionnel situé après le réducteur de pression | J19: Oui | K19: Non | M19: FALSE | N19: =IF(M19=TRUE,1,0) -> 0 | O19: Pipettes | P19: 2000 | S19: =IF(ISBLANK(P19),"",('FICHE SIGNALETIQUE'!F15/'CONCEPTION ET INSTALLATION'!P19)) -> 15 | T19: 1 pour 9-15 animaux | U19: =IF(ISBLANK(P19),"",IF(S19<=15,1,0)) -> 1
F20: Est-il possible de court-circuiter le réducteur de pression ? | J20: Oui | K20: Non | M20: FALSE | N20: =IF(M20=TRUE,1,0) -> 0 | O20: Cloches | P20: 188 | S20: =IF(ISBLANK(P20),"",('FICHE SIGNALETIQUE'!F15/'CONCEPTION ET INSTALLATION'!P20)) -> 159.57447 | T20: 1 pour 100 à 160 animaux | U20: =IF(ISBLANK(P20),"",IF(S20<=160,1,0)) -> 1
F21: De quelle manière ? | J21: Electrovanne présente sur le réducteur | K21: Clapet s'ouvrant sous pression | O21: Abreuvoirs siphoïdes | P21: 300 | S21: =IF(ISBLANK(P21),"",('FICHE SIGNALETIQUE'!F15/'CONCEPTION ET INSTALLATION'!P21)) -> 100 | T21: 1 pour 100 animaux | U21: =IF(ISBLANK(P21),"",IF(S21<=100,1,0)) -> 1
E22: Administration de traitements de l'eau et traitements par l'eau | F22: Administration des produits prophylactiques et vétérinaire (UNE SEULE réponse possible : sélectionner le matériel le plus fréquemment utilisé) | J22: Pompe doseuse fonctionnelle et spécifique | K22: Pompe doseuse servant également à l'administration de biocides | L22: =IF(AND(M22=TRUE,M23=TRUE), "UNE SEULE REPONSE POSSIBLE", " ") | M22: FALSE | N22: =IF(AND(M22=TRUE,M23=FALSE),2,0) -> 0 | O22: Abreuvoirs avec coupelles | P22: 188 | S22: =IF(ISBLANK(P22),"",('FICHE SIGNALETIQUE'!F15/'CONCEPTION ET INSTALLATION'!P22)) -> 159.57447 | T22: 1 pour 100 à 160 animaux | U22: =IF(ISBLANK(P22),"",(IF(S22<=160,1,0))) -> 1
J23: Bac tampon | K23: Rien | M23: FALSE | N23: =IF(AND(M23=TRUE,M22=FALSE),1,0) -> 0 | O23: Grandes coupelles | P23: 500 | S23: =IF(ISBLANK(P23),"",('FICHE SIGNALETIQUE'!F15/'CONCEPTION ET INSTALLATION'!P23)) -> 60 | T23: 1 pour 60 animaux | U23: =IF(ISBLANK(P23),"",IF(S23<=60,1,0)) -> 1
F24: Si bac tampon : | G24: Méthode de circulation | J24: Hauteur par gravité | K24: Circulateur | M24: FALSE | N24: =IF(AND(M24=TRUE,M23=TRUE),0.5,0) -> 0
G25: Volume (L) | J25: 1000
G26: Présence d'un retour au bac dans le circuit | J26: Oui | K26: Non | M26: FALSE | N26: =IF(AND(M26=TRUE,M23=TRUE),0,0) -> 0
G27: Point bas permettant la vidange | J27: Oui | K27: Non | M27: FALSE | N27: =IF(AND(M27=TRUE,M23=TRUE),0.5,0) -> 0
F28: Pompe doseuse fonctionnelle pour biocide | J28: Oui | K28: Non | M28: FALSE | N28: =IF(M28=TRUE,1,0) -> 0
E29: Purge | F29: Présence de systèmes/équipements permettant la purge manuelle ou automatique | J29: Oui | K29: Non | M29: FALSE | N29: =IF(M29=TRUE,1,0) -> 0
F30: Présence de bras morts | J30: Oui | K30: Non | M30: FALSE | N30: =IF(M30=TRUE,1,0) -> 0
M33: TOTAL | O33: =SUM(N9:N30,U19:U24) -> 5 | P33: /13

Sheet DIAGNOSTIC PHYSICO-CHIMIQUE
E12: Analyses physico- chimiques
E13: Date d'analyse : | F13: xx/xx/xx | G13: Age des animaux au prélèvement :
E14: Critères observés | F14: Valeur après traitements physico-chimiques | G14: Recommandation | J14: Cellules liées
E15: pH | F15: 6 | G15: 5,5-6,5 | H15: =IF(AND(K15=1),"SATISFAISANT !",IF(AND(K15=0),"NON SATISFAISANT"," ")) -> SATISFAISANT ! | K15: =IF(ISBLANK(F15)," ",IF(AND(F15<=6.5,F15>=4.5),1,0)) -> 1
E16: Dureté (TH) | F16: 11 | G16: 10-15 ° TH | H16: =IF(AND(K16=1),"SATISFAISANT !",IF(AND(K16=0),"NON SATISFAISANT"," ")) -> SATISFAISANT ! | K16: =IF(ISBLANK(F16)," ",IF(AND(F16<=15,F16>=10),1,0)) -> 1
E17: Fer mg/L | F17: 0 | G17: ≤ 0,2 mg/L | H17: =IF(AND(K17=1),"SATISFAISANT !",IF(AND(K17=0),"NON SATISFAISANT"," ")) -> SATISFAISANT ! | K17: =IF(ISBLANK(F17),"",IF(F17<=0.2,1,0)) -> 1
E18: Manganèse mg/L | F18: 0 | G18: ≤ 0,05 mg/L | H18: =IF(AND(K18=1),"SATISFAISANT !",IF(AND(K18=0),"NON STISFAISANT"," ")) -> SATISFAISANT ! | K18: =IF(ISBLANK(F18),"",IF(F18<=0.05,1,0)) -> 1
E19: Nitrate mg/L | F19: 0 | G19: ≤ 50 mg/L | H19: =IF(AND(K19=1),"SATISFAISANT !",IF(AND(K19=0),"NON SATISFAISANT"," ")) -> SATISFAISANT ! | K19: =IF(ISBLANK(F19),"",IF(F19<=50,1,0)) -> 1
D21: Traitements physico-chimiques
D22: Traitements physico-chimiques réalisés avant les traitements bactériologiques ? | G22: Oui | H22: Non | I22: FALSE | J22: =IF(I22=TRUE,1,0) -> 0
D23: Acidification | G23: =IF(AND(K15=1,OR(I24=TRUE,K24=TRUE)),"TRAITEMENT EFFICACE",IF(AND(K15=0,OR(I24=TRUE,K24=TRUE)),"TRAITEMENT A REVOIR",IF(AND(K15=1,J25=1),"TRAITEMENT INUTILE",IF(AND(K15=0,J25=1),"TRAITEMENT A METTRE EN ŒUVRE","")))) | I23: =IF(AND(K15=1,J25=1),3,IF(AND(K15=1,J24=1),2,IF(AND(K15=1,L24=0.5),2.5,0))) -> 0
D24: Pratique réalisée | G24: Oui continue | H24: Oui séquentielle | I24: FALSE | J24: =IF(I24=TRUE,1,0) -> 0 | K24: FALSE | L24: =IF(K24=TRUE,0.5,0) -> 0
G25: Non | I25: FALSE | J25: =IF(I25=TRUE,1,0) -> 0
D26: Valeur de pH souhaitée | I26: =IF(ISBLANK(G26),0,IF(AND(G26<=6.5,G26>=4.5),1,0)) -> 0
D27: Fréquence de contrôle | G27: Jamais | H27: Une ou plusieurs fois par an | I27: FALSE | J27: =IF(I27=TRUE,1,0) -> 0 | K27: FALSE | L27: =IF(K27=TRUE,0.5,0) -> 0
G28: Une ou plusieurs fois par mois | H28: Une ou plusieurs fois par semaine
D29: Adoucissement | G29: =IF(AND(K16=1,OR(I30=TRUE,K30=TRUE)),"TRAITEMENT EFFICACE",IF(AND(K16=0,OR(J30=1,K30=TRUE)),"TRAITEMENT A REVOIR",IF(AND(K16=1,J31=1),"TRAITEMENT INUTILE",IF(AND(K16=0,J31=1),"TRAITEMENT A METTRE EN ŒUVRE","")))) | I29: =IF(AND(K16=1,J31=1),3,IF(AND(K16=1,J30=1),2,IF(AND(K16=1,L30=0.5),2.5,0))) -> 0
D30: Pratique réalisée | G30: Oui continue | H30: Oui séquentielle | I30: FALSE | J30: =IF(I30=TRUE,1,0) -> 0 | K30: FALSE | L30: =IF(K30=TRUE,0.5,0) -> 0
G31: Non | I31: FALSE | J31: =IF(I31=TRUE,1,0) -> 0
D32: Valeur de dureté (TH) souhaitée °F | I32: =IF(ISBLANK(G32),0,IF(AND(G32<=15,G32>=10),1,0)) -> 0
D33: Fréquence de contrôle | G33: Jamais | H33: Une ou plusieurs fois par an
G34: Une ou plusieurs fois par mois | H34: Une ou plusieurs fois par semaine | I34: TRUE | J34: =IF(I34=TRUE,1,0) -> 1 | K34: FALSE | L34: =IF(K34=TRUE,0.5,0) -> 0
D35: Déferrisation | G35: =IF(AND(K17=1,OR(I36=TRUE,K36=TRUE)),"TRAITEMENT EFFICACE",IF(AND(K17=0,OR(J36=1,K36=TRUE)),"TRAITEMENT A REVOIR",IF(AND(K17=1,J37=1),"TRAITEMENT INUTILE",IF(AND(K17=0,J37=1),"TRAITEMENT A METTRE EN ŒUVRE","")))) | I35: =IF(AND(K17=1,J37=1),3,IF(AND(K17=1,J36=1),2,IF(AND(K17=1,L36=0.5),2.5,0))) -> 0
D36: Pratique réalisée | G36: Oui continue | H36: Oui séquentielle | I36: FALSE | J36: =IF(I36=TRUE,1,0) -> 0 | K36: FALSE | L36: =IF(K36=TRUE,0.5,0) -> 0
G37: Non | I37: FALSE | J37: =IF(I37=TRUE,1,0) -> 0
D38: Quantité de fer souhaitée mg/L | I38: =IF(ISBLANK(G38),0,IF(G38<=0.2,1,0)) -> 0
D39: Fréquence de contrôle | G39: Jamais | H39: Une ou plusieurs fois par an | I39: FALSE | J39: =IF(I39=TRUE,1,0) -> 0 | K39: FALSE | L39: =IF(K39=TRUE,0.5,0) -> 0
G40: Une ou plusieurs fois par mois | H40: Une ou plusieurs fois par semaine
D41: Démanganisation | G41: =IF(AND(K18=1,OR(I42=TRUE,K42=TRUE)),"TRAITEMENT EFFICACE",IF(AND(K18=0,OR(J42=1,K42=TRUE)),"TRAITEMENT A REVOIR",IF(AND(K18=1,J43=1),"TRAITEMENT INUTILE",IF(AND(K18=0,J43=1),"TRAITEMENT A METTRE EN ŒUVRE","")))) | I41: =IF(AND(K18=1,J43=1),3,IF(AND(K18=1,J42=1),2,IF(AND(K18=1,L42=0.5),2.5,0))) -> 0
D42: Pratique réalisée | G42: Oui continue | H42: Oui séquentielle | I42: FALSE | J42: =IF(I42=TRUE,1,0) -> 0 | K42: FALSE | L42: =IF(K42=TRUE,0.5,0) -> 0
G43: Non | I43: FALSE | J43: =IF(I43=TRUE,1,0) -> 0
D44: Quantité de manganèse souhaitée mg/L | I44: =IF(ISBLANK(G44),0,IF(G44<=0.5,1,0)) -> 0
D45: Fréquence de contrôle | G45: Jamais | H45: Une ou plusieurs fois par an
G46: Une ou plusieurs fois par mois | H46: Une ou plusieurs fois par semaine | I46: FALSE | J46: =IF(I46=TRUE,1,0) -> 0 | K46: FALSE | L46: =IF(K46=TRUE,0.5,0) -> 0
G48: TOTAL | H48: =SUM(K15,K17:K19,J22,I23,J27,L27,J24,I26:I29,L24,J30:J30,L30:L30,I32:I35,J39,L39,L36,J36,I38:I41,J46,L46,J42,L42,I44) -> 4 | I48: /17

Sheet DIAGNOSTIC BACTERIOLOGIQUE
D7: Analyses bactériologiques | M7: Biocides utilisés
D8: Fréquence d'analyses en laboratoire | G8: 2 fois par an | H8: 1 fois par an | I8: 1 fois tous les 2 ans | J8: > tous les 2 ans | M8: Produits chlorés | P8: =IF(AND(AK17=1,OR(R9=TRUE,T9=TRUE)),"DESINFECTION EFFICACE",IF(AND(AK17=0,OR(R9=TRUE,T9=TRUE)),"DESINFECTION A REVOIR",IF(AND(AK17=1,S10=1),"DESINFECTION EFFICACE",IF(AND(AK17=0,S10=1),"DESINFECTION A METTRE EN ŒUVRE","")))) -> DESINFECTION EFFICACE | R8: =IF(AND(AK17=1,S10=1),0,IF(AND(AK17=1,S9=1),3,IF(AND(AK17=1,U9=0.5),3.5,0))) -> 3 | AE8: FALSE | AF8: =IF(AE8=TRUE,1,0) -> 0 | AG8: TRUE | AH8: =IF(AG8=TRUE,1,0) -> 1
D9: Lieu(x) habituel(s) de prélèvements | G9: A la source | H9: SAS | I9: Bout de ligne | M9: Pratique réalisée | P9: Oui continue | Q9: Oui séquentielle | R9: TRUE | S9: =IF(R9=TRUE,1,0) -> 1 | T9: FALSE | U9: =IF(T9=TRUE,0.5,0) -> 0 | AE9: TRUE | AF9: =IF(AE9=TRUE,1,0) -> 1
D10: Résultats du drnier prélèvement | P10: Non | R10: FALSE | S10: =IF(R10=TRUE,1,0) -> 0
D11: Date : | E11: x/x/x | H11: Age des animaux : | M11: Méthode utilisée | P11: Choisissez un paramètre
D12: Critères observés | H12: Au SAS (en germes /Vol) | I12: Bout de ligne (en germes / Vol) | J12: Recommandation (en germes / mL) | M12: Quantité de chlore souhaitée en bout de ligne (mg/L) | R12: =IF(AND(P12<=0.6,P12>=0.3),1,0) -> 0 | AE12: Cellule de lecture | AF12: Score
D13: Flore totale | E13: Germes revivifiables à 22°C | J13: < 100 (dans 1mL) | M13: Quantité de chlore mesurée (mg/L) | R13: =IF(AND(P13<=1.5,P13>=0.3),1,0) -> 0
E14: Germes revivifiables à 37°C | J14: ≤ 20 pour 1 ml | M14: Fréquence de contrôle | P14: Jamais | Q14: Une ou plusieurs fois par an | R14: FALSE | S14: =IF(R14=TRUE,0,0) -> 0 | T14: FALSE | U14: =IF(T14=TRUE,0.5,0) -> 0 | V14: FALSE | W14: =IF(V14=TRUE,1,0) -> 0
D15: Flore indicatrice | E15: Coliformes totaux | H15: 0 | J15: < 10 dans 100 ml | P15: Une ou plusieurs fois par mois | Q15: Une ou plusieurs fois par semaine
E16: E.Coli fécaux | H16: 0 | I16: 0 | J16: < 0 dans 100ml | K16: =IF(ISBLANK(I15:I18),"",IF(AND(AJ16=1,AND(AJ17=1),AND(AJ18=1)),"SATISFAISANT ! ","NON SATISFAISANT")) -> SATISFAISANT ! | M16: Peroxyde et assimilés | P16: =IF(AND(AK17=1,OR(R17=TRUE,T17=TRUE)),"DESINFECTION EFFICACE",IF(AND(AK17=0,OR(R17=TRUE,T17=TRUE)),"DESINFECTION A REVOIR",IF(AND(AK17=1,S18=1),"DESINFECTION INUTILE",IF(AND(AK17=0,S18=1),"DESINFECTION A METTRE EN ŒUVRE","")))) | R16: =IF(AND(AK17=1,S17=1),0,IF(AND(AK17=1,S18=1),3,IF(AND(AK17=1,U17=0.5),3.5,0))) -> 0 | AJ16: =IF(AND(I16<=0,NOT(ISBLANK(I16))),1,0) -> 1
E17: Entérocoques intestinaux | H17: 0 | I17: 0 | J17: < 0 dans 100ml | M17: Pratique réalisée | P17: Oui continue | Q17: Oui séquentielle | R17: FALSE | S17: =IF(R17=TRUE,1,0) -> 0 | T17: FALSE | U17: =IF(T17=TRUE,0.5,0) -> 0 | AJ17: =IF(AND(I17<=0,NOT(ISBLANK(I17))),1,0) -> 1 | AK17: =IF(ISERROR(SEARCH("SATISFAISANT !",K16)),0,1) -> 1
E18: Bactéries anaérobies sulfito-réductrices | H18: 3 | I18: 0 | J18: < 0 dans 100ml | P18: Non | R18: FALSE | S18: =IF(R18=TRUE,1,0) -> 0 | AJ18: =IF(AND(I18<=0,NOT(ISBLANK(I18))),1,0) -> 1
M19: Quantité de peroxyde souhaité (mg/L) | R19: =IF(AND(P19<=30,NOT(ISBLANK(P19))),1,0) -> 0
M20: Quelle valeur lors de la visite ? (mg/L) | R20: =IF(AND(P20<=30,NOT(ISBLANK(P20))),1,0) -> 0
M21: Fréquence de contrôle | P21: Jamais | Q21: Une ou plusieurs fois par an | R21: FALSE | S21: =IF(R21=TRUE,0,0) -> 0 | T21: FALSE | U21: =IF(T21=TRUE,0.5,0) -> 0 | V21: FALSE | W21: =IF(V21=TRUE,1,0) -> 0
P22: Une ou plusieurs fois par mois | Q22: Une ou plusieurs fois par semaine
M23: Anolytes | P23: =IF(AND(AK17=1,OR(R24=TRUE,T24=TRUE)),"DESINFECTION EFFICACE",IF(AND(AK17=0,OR(R24=TRUE,T24=TRUE)),"DESINFECTION A REVOIR",IF(AND(AK17=1,S25=1),"DESINFECTION INUTILE",IF(AND(AK17=0,S25=1),"DESINFECTION A METTRE EN ŒUVRE","")))) | R23: =IF(AND(AK17=1,S25=1),0,IF(AND(AK17=1,S24=1),3,IF(AND(AK17=1,U24=0.5),3.5,0))) -> 0 | AE23: Score des cellules
M24: Pratique réalisée | P24: Oui continue | Q24: Oui séquentielle | R24: FALSE | S24: =IF(AND(R24=TRUE,NOT(ISBLANK(R24))),1,0) -> 0 | T24: FALSE | U24: =IF(T24=TRUE,0.5,0) -> 0
P25: Non | R25: FALSE | S25: =IF(R25=TRUE,1,0) -> 0
M26: Potentiel Rédox souhaité en bout de ligne (mV) | R26: =IF(AND(P26<=750,P26>=650),1,0) -> 0
M27: Potentiel Rédeox mesuré en bout de ligne (mV) | R27: =IF(AND(P27<=750,P27>=650),1,0) -> 0
M28: Fréquence de contrôle | P28: Jamais | Q28: Une ou plusieurs fois par an | R28: FALSE | S28: =IF(R28=TRUE,0,0) -> 0 | T28: FALSE | U28: =IF(T28=TRUE,0.5,0) -> 0 | V28: FALSE | W28: =IF(V28=TRUE,1,0) -> 0
P29: Une ou plusieurs fois par mois | Q29: Une ou plusieurs fois par semaine
L31: TOTAL | M31: =SUM(AJ16:AJ18,Z8,S9,U9,R12:R13,S14:S17,U14:U17,R19:R20,S21:S24,W14,U21:U24,W21,S28,U28,W28,R26:R27,AF8:AF9,AH8,R8,R16,R23) -> 9 | N31: /9

Sheet ENTRETIEN AU VIDE SANITAIRE 
E8: Nettoyage et désinfection des canalisations | K8: Cellules liées | L8: Score
E9: Vidange avant toute introduction de produit | I9: Oui | J9: Non | K9: TRUE | L9: =IF(K9=TRUE,1,0) -> 1
E10: Base forte : Utilisation | I10: Oui | J10: Non | K10: TRUE | L10: =IF(K10=TRUE,1,0) -> 1
E11: Base forte : Concentration utilisée (%) | I11: 2 | K11: =IF(I11=CALCULATEURS!I17,1,0) -> 1 | L11: =IF(ISBLANK(CALCULATEURS!I17), "REMPLIR CASE CONCENTRATION RECOMMANDEE DANS L'ONGLET CALCULATEURS","POINT ATTRIBUE SELON LES RECOMMANDATIONS REMPLIES DANS L'ONGLET CALCULATEURS ") -> POINT ATTRIBUE SELON LES RECOMMANDATIONS REMPLIES DANS L'ONGLET CALCULATEURS
E12: Base forte : temps d'action | I12: < 30 min | J12: 30 min - 1 heure | K12: TRUE | L12: =IF(K12=TRUE,1,0) -> 1
I13: > 2 heures
E14: Rinçage sous pression (en court-circuitant tous les réducteurs de pression) | I14: Non | J14: Oui 2-3 bars | K14: TRUE | L14: =IF(K14=TRUE,1,0) -> 1
E15: Acide fort : Utilisation | I15: Oui | J15: Non | K15: TRUE | L15: =IF(K15=TRUE,1,0) -> 1
E16: Acide fort : Concentration utilisée (%) | I16: 1 | K16: =IF(I16=CALCULATEURS!I18,1,0) -> 1 | L16: =IF(ISBLANK(CALCULATEURS!I18), "REMPLIR CASE CONCENTRATION RECOMMANDEE DANS L'ONGLET CALCULATEURS", "POINT ATTRIBUE SELON LES RECOMMANDATIONS REMPLIES DANS L'ONGLET CALCULATEURS ") -> POINT ATTRIBUE SELON LES RECOMMANDATIONS REMPLIES DANS L'ONGLET CALCULATEURS
E17: Acide fort : temps d'action | I17: < 30 min | J17: 30 min -1 heure | K17: TRUE | L17: =IF(K17=TRUE,1,0) -> 1
I18: > 2 heures
E19: Rinçage sous pression | I19: Non | J19: Oui 2-3 bars | K19: TRUE | L19: =IF(K19=TRUE,1,0) -> 1
E20: Désinfectant : Concentration utilisée (%) | I20: 1 | K20: =IF(I20=CALCULATEURS!I19,1,0) -> 1 | L20: =IF(ISBLANK(CALCULATEURS!I19),"REMPLIR CASE CONCENTRATION RECOMMANDEE DANS L'ONGLET CALCULATEURS","POINT ATTRIBUE SELON LES RECOMMANDATIONS REMPLIES DANS L'ONGLET CALCULATEURS ") -> POINT ATTRIBUE SELON LES RECOMMANDATIONS REMPLIES DANS L'ONGLET CALCULATEURS
E21: Désinfectant : maintien du produit dans les canalisations jusqu'à l'arrivée des animaux | I21: Oui | J21: Non | K21: TRUE | L21: =IF(K21=TRUE,1,0) -> 1
E22: Quand est effectué le rinçage du produit désinfectant avant l'arrivée des animaux ? | I22: < 3-4H | J22: 12H | K22: FALSE | L22: =IF(K22=TRUE,1,0) -> 0 | M22: TRUE | N22: =IF(M22=TRUE,2,0) -> 2
I23: > 24 H
E24: Entretien du matériel
E25: Fréquence de nettoyage du filtre | I25: Dès qu'il est sale | J25: Tous les mois | K25: FALSE | L25: =IF(K25=TRUE,1,0) -> 0 | M25: TRUE | N25: =IF(M25=TRUE,1,0) -> 1
I26: > A chaque bande
E27: Désinfection du filtre au vide sanitaire | I27: Oui | J27: Non | K27: TRUE | L27: =IF(K27=TRUE,1,0) -> 1
E28: Maintenance de la pompe ou nettoyage du bac (frotté) | I28: Oui | J28: Non | K28: TRUE | L28: =IF(K28=TRUE,1,0) -> 1
E29: Désinfection du bac | I29: Oui | J29: Non | K29: TRUE | L29: =IF(K29=TRUE,1,0) -> 1
E30: Nettoyage et désinfection des abreuvoirs | I30: Oui | J30: Non | K30: TRUE | L30: =IF(K30=TRUE,1,0) -> 1
E31: Avez-vous déjà …
E32: Réalisé une observation du biofilm avec une caméra endoscopique | I32: Oui | J32: Non | K32: FALSE
E33: Pratiqué le nettoyage choc mécanique air/eau dans les canalisations | I33: Oui | J33: Non | K33: TRUE | L33: =IF(K33=TRUE,1,0) -> 1
H35: TOTAL | I35: =SUM(L9:L33,N22,N25,K20,K16,K11) -> 19 | J35: /19

Sheet ENTRETIEN EN COURS DE LOT 
D10: En cours de lot | M10: case liées | N10: score
D11: Purge du système | E11: Purge réalisée après chaque administration de traitements vétérinaires ou nutritionnels | I11: Oui | K11: Non | M11: FALSE | N11: =IF(M11=TRUE,1,0) -> 0
E12: Réalisation de purges régulières en cours de lot | I12: Oui | K12: Non | M12: FALSE | N12: =IF(M12=TRUE,1,0) -> 0
E13: Mode d'activation de la purge | I13: Manuelle | K13: Automatique
E14: Fréquence de purge en période de démarrage | I14: Plusieurs fois par jour | J14: 1 fois par jour | K14: Plusieurs fois par semaine | L14: 1 fois par semaine | M14: FALSE | N14: =IF(M14=TRUE,1,0) -> 0 | O14: TRUE | P14: =IF(O14=TRUE,1,0) -> 1 | Q14: TRUE | R14: =IF(Q14=TRUE,1,0) -> 1
E15: Fréquence de purge en période de croissance | I15: 1 fois par jour | J15: Plusieurs fois par semaine | K15: 1 fois par semaine | L15: Moins fréquemment | M15: FALSE | N15: =IF(M15=TRUE,1,0) -> 0 | O15: FALSE | P15: =IF(O15=TRUE,1,0) -> 0 | Q15: FALSE | R15: =IF(Q15=TRUE,1,0) -> 0
E16: Fréquence de purge en période de finition | I16: 1 fois par jour | J16: Plusieurs fois par semaine | K16: 1 fois par semaine | L16: Moins fréquemment | M16: FALSE | N16: =IF(M16=TRUE,1,0) -> 0
M17: FALSE | N17: =IF(M17=TRUE,1,0) -> 0
J18: TOTAL | K18: =SUM(N11:N20,P14,P15,R15,R14) -> 2 | L18: /5 | M18: FALSE | N18: =IF(M18=TRUE,1,0) -> 0

Sheet BILAN 
D9: NOM de l'éleveur
D10: DATE | E10: =TODAY() -> 43957
I12: Plan d'action
D13: Volet | E13: Evaluation | F13: Note | G13: Total | H13: Commentaire | I13: Prioritaire | J13: Court terme | K13: Moyen/Long terme
D14: Conception est installation | E14: =IF(AND(F14>=9.75),"SATISFAISANT !","NON SATISFAISANT") -> NON SATISFAISANT | F14: ='CONCEPTION ET INSTALLATION'!O33 -> 5 | G14: 13
D15: Diagnostic physico-chimique | E15: =IF(AND(F15>=12.75),"SATISFAISANT !","NON SATISFAISANT") -> NON SATISFAISANT | F15: ='DIAGNOSTIC PHYSICO-CHIMIQUE'!H48 -> 4 | G15: 17
D16: Diagnostic bactériologique | E16: =IF(AND(F16>=6.75),"SATISFAISANT !", "NON SATISFAISANT") -> SATISFAISANT ! | F16: ='DIAGNOSTIC BACTERIOLOGIQUE'!M31 -> 9 | G16: 9
D17: Entretien au VS | E17: =IF(F17>=14.25,"SATISFAISANT !","NON SATISFAISANT") -> SATISFAISANT ! | F17: ='ENTRETIEN AU VIDE SANITAIRE '!I35 -> 19 | G17: 19 | I17: =IF(AND('ENTRETIEN AU VIDE SANITAIRE '!K32=FALSE),"Faire des observations à la caméra endoscopique après le nettoyage et désinfection"," ") -> Faire des observations à la caméra endoscopique après le nettoyage et désinfection | K17: =IF('ENTRETIEN AU VIDE SANITAIRE '!L33=0,"Réaliser le décrassage mécanique au moins 1 fois par an"," ")
D19: Entretien en cours de lot | E19: =IF(F19>=3.75,"SATISFAISANT !","NON SATISFAISANT") -> NON SATISFAISANT | F19: ='ENTRETIEN EN COURS DE LOT '!K18 -> 2 | G19: 5

Sheet POUR ALLER PLUS LOIN 
