Workbook

Sheet Page de garde
D2: OUTIL DE CALCUL "FICHE FLUX" (V1.2)
B5: DOSSIER TECHNIQUE DE RESTITUTION DES RESULTATS DE SIMULATION DES FLUX DE REJETS SUR LA BASE DE LA "FICHE FLUX"
B9: Document de référence : "Fiche méthodologique relative à la compatibilité du flux de polluants rejetés par une pisciculture avec le milieu récepteur". Septembre 2017. Ministère de la transition écologique et solidaire, Ministère de l'agriculture et de l'alimentation, ITAVI, CIPA. Document évolutif produit dans le cadre du "Plan de Progrès Pisciculture".
B10: V1.2 (février 2023)
B12: Le programme "plan de progrès" est porté, soutenu et réalisé par :

Sheet Administratif
D2: ='Page de garde'!D2:H2 -> OUTIL DE CALCUL "FICHE FLUX" (V1.2)
B4: Renseignements généraux sur la pisciculture concernée
B6: Date de la simulation : | G6: n° BDN :
B7: Nom de la pisciculture :
B8: Adresse du site :
B9: Nom de l'exploitant :
B10: Coordonnées / contact :
B11: Opérateur(s) ayant procédé aux calculs :
B13: Sources des données de base fournies pour les calculs de flux
B15: Type de donnée | E15: Source de la donnée
B16: Débits | C16: Module :
C17: autre débit hors étiage (si abscence de module) :
C18: QMNA5 :
C19: autre débit d'étiage sévère (si absence de QMNA5) :
C20: Débit réservé :
C21: Autre(s) débit(s) représentatif(s) (si besoin de simulation(s)) :
B22: Concentrations | C22: amont | D22: NH4+ :
D23: NO2- :
D24: PO43- :
D25: MES :
D26: DBO5 :
C27: aval | D27: NH4+ :
D28: NO2- :
D29: PO43- :
D30: MES :
D31: DBO5 :
B33: Observation(s), remarque(s) éventuelles sur les données utilisées :

Sheet Flux hors étiage (module)
C2: =Administratif!D2 -> OUTIL DE CALCUL "FICHE FLUX" (V1.2)
B4: Détermination du flux rejeté par la pisciculture pour un DEBIT "HORS ETIAGE" (recommandation : module)
B6: Date de la simulation : | C6: =Administratif!D6 -> 0 | F6: n° BDN : | G6: =Administratif!H6 -> 0
B7: Nom de la pisciculture : | C7: =Administratif!D7 -> 0
B9: Donnée de débit du cours d'eau hors étiage retenu pour les calculs qui suivent :
B10: Valeur de débit du cours d'eau hors étiage retenu pour les calculs qui suivent : | H10: m3/s
F11: =F10*(60*60*24) -> 0 | H11: m3/j
B13: Concentrations moyennes sur 24h (en mg/l) | D13: NH4+ | E13: NO2- | F13: PO43- | G13: MES | H13: DBO5
B14: Concentration amont [proche du module] :
B15: Concentration aval [proche du module] :
B17: Calcul du flux rejeté par la pisciculture pour le débit hors étiage retenu :
E19: m3/s | G19: m3/j
B20: Q cours d'eau [hors étiage] | E20: =F10 -> 0 | G20: =F11 -> 0
B21: Q dérivé [hors étiage] | G21: =E21*(60*60*24) -> 0
B22: Q réservé [hors étiage] | G22: =E22*(60*60*24) -> 0
B24: Φ Flux rejetés par la pisciculture (en kg/j) | D24: NH4+ | E24: NO2- | F24: PO43- | G24: MES | H24: DBO5
B25: Concentration au rejet (mg/l) [proche du module] : | D25: =D15-D14 -> 0 | E25: =E15-E14 -> 0 | F25: =F15-F14 -> 0 | G25: =G15-G14 -> 0 | H25: =H15-H14 -> 0
B26: Φ rejet [hors étiage] : | D26: =(D25*$G$21)/1000 -> 0 | E26: =(E25*$G$21)/1000 -> 0 | F26: =(F25*$G$21)/1000 -> 0 | G26: =(G25*$G$21)/1000 -> 0 | H26: =(H25*$G$21)/1000 -> 0
B27: Rappel : la concentration au rejet est calculé comme étant la différence entre la concentration du paramètre aval et la concentration du paramètre amont (cf. document de référence)
B29: Φ Flux maximaux admissibles (en kg/j) | D29: NH4+ | E29: NO2- | F29: PO43- | G29: MES | H29: DBO5
B30: Valeur limite de la classe d'état (bon état selon Arrêté 25/01/10, en mg/l) : | D30: 0.5 | E30: 0.3 | F30: 0.5 | G30: 15 | H30: 6
B31: Φ adm [hors étiage] : | D31: =(D30*$G$20)/1000 -> 0 | E31: =(E30*$G$20)/1000 -> 0 | F31: =(F30*$G$20)/1000 -> 0 | G31: =(G30*$G$20)/1000 -> 0 | H31: =(H30*$G$20)/1000 -> 0
B33: Résultats des calculs de flux pour un débit HORS ETIAGE :
D35: NH4+ | E35: NO2- | F35: PO43- | G35: MES | H35: DBO5
B36: Respect du bon état écologique en situation de DEBIT HORS ETIAGE : | D36: =IF(D26<D31,"OUI","NON") -> NON | E36: =IF(E26<E31,"OUI","NON") -> NON | F36: =IF(F26<F31,"OUI","NON") -> NON | G36: =IF(G26<G31,"OUI","NON") -> NON | H36: =IF(H26<H31,"OUI","NON") -> NON
C37: Si OUI : Application prescriptions Arrêté 2008
C38: Si NON : Calculs à développer sur différents débits et conditions

Sheet Flux étiage sévère (QMNA5)
C2: =Administratif!D2 -> OUTIL DE CALCUL "FICHE FLUX" (V1.2)
B4: Détermination du flux rejeté par la pisciculture pour un DEBIT "D'ETIAGE SEVERE" (recommandation : QMNA5)
B6: Date de la simulation : | C6: =Administratif!D6 -> 0 | F6: n° BDN : | G6: =Administratif!H6 -> 0
B7: Nom de la pisciculture : | C7: =Administratif!D7 -> 0
B9: Donnée de débit du cours d'eau d'étiage sévère retenu pour les calculs qui suivent :
B10: Valeur de débit du cours d'eau d'étiage sévère retenu pour les calculs qui suivent : | H10: m3/s
F11: =F10*(60*60*24) -> 0 | H11: m3/j
B13: Concentrations moyennes sur 24h (en mg/l) | D13: NH4+ | E13: NO2- | F13: PO43- | G13: MES | H13: DBO5
B14: Concentration amont [débit d'étiage sévère] :
B15: Concentration aval [débit d'étiage sévère] :
B17: Calcul du flux rejeté par la pisciculture pour le débit d'étiage sévère retenu :
E19: m3/s | G19: m3/j
B20: Q cours d'eau [étiage sévère] | E20: =F10 -> 0 | G20: =E20*(60*60*24) -> 0
B21: Q dérivé [étiage sévère] | G21: =E21*(60*60*24) -> 0
B22: Q réservé [étiage sévère] | G22: =E22*(60*60*24) -> 0
B24: Φ Flux rejetés par la pisciculture (en kg/j) | D24: NH4+ | E24: NO2- | F24: PO43- | G24: MES | H24: DBO5
B25: Concentration au rejet (mg/l) [débit d'étiage sévère] : | D25: =D15-D14 -> 0 | E25: =E15-E14 -> 0 | F25: =F15-F14 -> 0 | G25: =G15-G14 -> 0 | H25: =H15-H14 -> 0
B26: Φ rejet [étiage sévère] : | D26: =(D25*$G$21)/1000 -> 0 | E26: =(E25*$G$21)/1000 -> 0 | F26: =(F25*$G$21)/1000 -> 0 | G26: =(G25*$G$21)/1000 -> 0 | H26: =(H25*$G$21)/1000 -> 0
B27: Rappel : la concentration au rejet est calculé comme étant la différence entre la concentration du paramètre aval et la concentration du paramètre amont (cf. document de référence)
B29: Φ Flux maximaux admissibles (en kg/j) | D29: NH4+ | E29: NO2- | F29: PO43- | G29: MES | H29: DBO5
B30: Valeur limite de la classe d'état (bon état selon Arrêté 25/01/10, en mg/l) : | D30: 0.5 | E30: 0.3 | F30: 0.5 | G30: 15 | H30: 6
B31: Φ adm [étiage sévère] : | D31: =(D30*$G$20)/1000 -> 0 | E31: =(E30*$G$20)/1000 -> 0 | F31: =(F30*$G$20)/1000 -> 0 | G31: =(G30*$G$20)/1000 -> 0 | H31: =(H30*$G$20)/1000 -> 0
B33: Résultats des calculs de flux pour un débit D'ETIAGE SEVERE :
D35: NH4+ | E35: NO2- | F35: PO43- | G35: MES | H35: DBO5
B36: Respect du bon état écologique en situation de DEBIT D'ETIAGE SEVERE : | D36: =IF(D26<D31,"OUI","NON") -> NON | E36: =IF(E26<E31,"OUI","NON") -> NON | F36: =IF(F26<F31,"OUI","NON") -> NON | G36: =IF(G26<G31,"OUI","NON") -> NON | H36: =IF(H26<H31,"OUI","NON") -> NON
C37: Si OUI : Application prescriptions Arrêté 2008
C38: Si NON : Calculs à développer sur différents débits et conditions

Sheet Flux autre débit représentatif
C2: =Administratif!D2 -> OUTIL DE CALCUL "FICHE FLUX" (V1.2)
B4: Détermination du flux rejeté par la pisciculture pour un AUTRE DEBIT REPRESENTATIF DU FONCTIONNEMENT DE LA PISCICULTURE
B6: Date de la simulation : | C6: =Administratif!D6 -> 0 | F6: n° BDN : | G6: =Administratif!H6 -> 0
B7: Nom de la pisciculture : | C7: =Administratif!D7 -> 0
B9: Donnée de débit du cours d'eau retenu pour les calculs qui suivent :
B10: Valeur de débit du cours d'eau représentatif retenu pour les calculs qui suivent : | H10: m3/s
F11: =F10*(60*60*24) -> 0 | H11: m3/j
B13: Concentrations moyennes sur 24h (en mg/l) | D13: NH4+ | E13: NO2- | F13: PO43- | G13: MES | H13: DBO5
B14: Concentration amont [autre débit représentatif] :
B15: Concentration aval [autre débit représentatif] :
B17: Calcul du flux rejeté par la pisciculture pour le débit représentatif retenu :
E19: m3/s | G19: m3/j
B20: Q cours d'eau [autre débit représentatif] | E20: =F10 -> 0 | G20: =F11 -> 0
B21: Q dérivé [autre débit représentatif] | G21: =E21*(60*60*24) -> 0
B22: Q réservé [autre débit représentatif] | G22: =E22*(60*60*24) -> 0
B24: Φ Flux rejetés par la pisciculture (en kg/j) | D24: NH4+ | E24: NO2- | F24: PO43- | G24: MES | H24: DBO5
B25: Concentration au rejet (mg/l) [autre débit représentatif] : | D25: =D15-D14 -> 0 | E25: =E15-E14 -> 0 | F25: =F15-F14 -> 0 | G25: =G15-G14 -> 0 | H25: =H15-H14 -> 0
B26: Φ rejet [autre débit représentatif] : | D26: =(D25*$G$21)/1000 -> 0 | E26: =(E25*$G$21)/1000 -> 0 | F26: =(F25*$G$21)/1000 -> 0 | G26: =(G25*$G$21)/1000 -> 0 | H26: =(H25*$G$21)/1000 -> 0
B27: Rappel : la concentration au rejet est calculé comme étant la différence entre la concentration du paramètre aval et la concentration du paramètre amont (cf. document de référence)
B29: Φ Flux maximaux admissibles (en kg/j) | D29: NH4+ | E29: NO2- | F29: PO43- | G29: MES | H29: DBO5
B30: Valeur limite de la classe d'état (bon état selon Arrêté 25/01/10, en mg/l) : | D30: 0.5 | E30: 0.3 | F30: 0.5 | G30: 15 | H30: 6
B31: Φ adm [autre débit représentatif] : | D31: =(D30*$G$20)/1000 -> 0 | E31: =(E30*$G$20)/1000 -> 0 | F31: =(F30*$G$20)/1000 -> 0 | G31: =(G30*$G$20)/1000 -> 0 | H31: =(H30*$G$20)/1000 -> 0
B33: Résultats des calculs de flux pour un autre débit représentatif :
D35: NH4+ | E35: NO2- | F35: PO43- | G35: MES | H35: DBO5
B36: Respect du bon état écologique dans cette situation de débit représentatif : | D36: =IF(D26<D31,"OUI","NON") -> NON | E36: =IF(E26<E31,"OUI","NON") -> NON | F36: =IF(F26<F31,"OUI","NON") -> NON | G36: =IF(G26<G31,"OUI","NON") -> NON | H36: =IF(H26<H31,"OUI","NON") -> NON
C37: Si OUI : Application prescriptions Arrêté 2008
C38: Si NON : Calculs à développer sur différents débits et conditions
